BEGIN:VCALENDAR
VERSION:2.0
PRODID:-//wp-events-plugin.com//7.2.3.1//EN
TZID:Europe/Prague
X-WR-TIMEZONE:Europe/Prague
BEGIN:VEVENT
UID:417@ponava.cafe
DTSTART;TZID=Europe/Prague:20200909T193000
DTEND;TZID=Europe/Prague:20200909T203000
DTSTAMP:20200903T145043Z
URL:https://ponava.cafe/udalosti/zuzana-gamboa-band/
SUMMARY:ZUZANA GAMBOA & BAND
DESCRIPTION:Zuzana Gamboa &amp\; Band se na vás těší již příští st
 ředu v rytmech SOUL\, LATINO\, FUNKY\, JAZZ\, BLUES\, DISCO......\n\n\,\,
  I say DISCO\, you say PARTY\nDISCO DISCO- PARTY PARTY "\n\nÚčinkující
 :\n\nMiroslav Veselý\nHonza Navrátil\nDušan Reichmann\nPetr Šupler\nPa
 lo Hoďa\nand Rybíz
ATTACH;FMTTYPE=image/jpeg:https://ponava.cafe/wp-content/uploads/2017/06/t
 apeta.jpg
CATEGORIES:Koncert
END:VEVENT
BEGIN:VTIMEZONE
TZID:Europe/Prague
X-LIC-LOCATION:Europe/Prague
BEGIN:DAYLIGHT
DTSTART:20200329T030000
TZOFFSETFROM:+0100
TZOFFSETTO:+0200
TZNAME:CEST
END:DAYLIGHT
END:VTIMEZONE
END:VCALENDAR