BEGIN:VCALENDAR
VERSION:2.0
PRODID:-//wp-events-plugin.com//7.2.3.1//EN
TZID:Europe/Prague
X-WR-TIMEZONE:Europe/Prague
BEGIN:VEVENT
UID:152@ponava.cafe
DTSTART;TZID=Europe/Prague:20180711T190000
DTEND;TZID=Europe/Prague:20180711T190000
DTSTAMP:20180709T191821Z
URL:https://ponava.cafe/udalosti/zesilovaci/
SUMMARY:Zesilovači
DESCRIPTION:ZESILOVAČi\nbubny k srdci\npavel fajt &amp\; pavel koudelka\nP
 avel Fajt - koncertní bubny\, elektronika\, zpěv\n\nPavel Koudelka - bic
 í souprava\, klávesy\, kytara\, zpěv\nLukáš Duchoň - klávesy\nKonce
 rtni program postavený na zvuku 2 bicích souprav\, elektroniky\, kláves
 ových ploch a zpěvu. \nPavel Koudelka - Dunaj\, Zkopce\, Krutnava\, A-b
 eat\, Mnaga a Zdorb\, Slet Bubeniku...\nPavel Fajt - Iva Bittova\, Dunaj\,
  Pluto\, Slet Bubeniku\, Fajt &amp\; Meneses\, Autopilote\, WWW Neurobeat.
 ..\nLukáš Duchoň - Tres Quantos Kvintet...\n\n
ATTACH;FMTTYPE=image/jpeg:https://ponava.cafe/wp-content/uploads/2017/06/t
 apeta.jpg
CATEGORIES:Koncert
END:VEVENT
BEGIN:VTIMEZONE
TZID:Europe/Prague
X-LIC-LOCATION:Europe/Prague
BEGIN:DAYLIGHT
DTSTART:20180325T030000
TZOFFSETFROM:+0100
TZOFFSETTO:+0200
TZNAME:CEST
END:DAYLIGHT
END:VTIMEZONE
END:VCALENDAR