BEGIN:VCALENDAR
VERSION:2.0
PRODID:-//wp-events-plugin.com//7.2.3.1//EN
TZID:Europe/Prague
X-WR-TIMEZONE:Europe/Prague
BEGIN:VEVENT
UID:230@ponava.cafe
DTSTART;TZID=Europe/Prague:20190306T200000
DTEND;TZID=Europe/Prague:20190306T220000
DTSTAMP:20190206T160336Z
URL:https://ponava.cafe/udalosti/zen-krystyna-skalicka/
SUMMARY:Žen + Krystyna Skalická
DESCRIPTION:Hudební středu nám tentokrát ozvláštní dvojice muzikant
 ů Žen/kytara\, zpěv a Krystyna Skalická/akordeon\, zpěv\n\nŽEN \n\nM
 ichael Bártek\, dobrý holub hodoníské Pančavy\, Brna\, Prahy i Vojtě
 chova na Vysočině. S vlastní hudbou začal vystupovat prvně v počátc
 ích Vítrholce\, poté v uskupení „V obležení žen“. V padesáti l
 etech vydal sólový debut ŽEN – Nafúknuté. Následovalo hraní s kap
 elou „Sblížen“\, v současnosti dává nejvíce koncertů na ulici c
 oby busker a připravuje vydání dalšího CD. Dle parametrů na venkovn
 ím teploměru\, hřaduje a hraje střídavě v Brně\, v Praze či ve Voj
 těchově.\n\n\n\nKrystyna Skalická\n\nKrystyna Skalická\, písničkář
 ka\, harmonikářka a loutkoherečka\, zpívá své písně polsky\, česk
 y\, slovensky a v těšínském nářečí. Zhudebňuje také básně nap
 ř. I. M. Jirouse\, S. Lavríka či R. Putzlacher. Krystynu skvěle doprov
 ází klarinetistka Michaela Kalašová\, která s ní tvoří již deset 
 let. Hudební kritik Jan Rejžek jejich CD JEDEN TANiEC označil nejlepš
 ím domácím albem roku 2015.\n\n\n\n&nbsp\;\n\nVstupné dobrovolné\, z
 ážitky k nezaplacení :)
ATTACH;FMTTYPE=image/jpeg:https://ponava.cafe/wp-content/uploads/2019/02/M
 ichael_01.jpg
CATEGORIES:Koncert
END:VEVENT
BEGIN:VTIMEZONE
TZID:Europe/Prague
X-LIC-LOCATION:Europe/Prague
BEGIN:STANDARD
DTSTART:20181028T020000
TZOFFSETFROM:+0200
TZOFFSETTO:+0100
TZNAME:CET
END:STANDARD
END:VTIMEZONE
END:VCALENDAR