BEGIN:VCALENDAR
VERSION:2.0
PRODID:-//wp-events-plugin.com//7.2.3.1//EN
TZID:Europe/Prague
X-WR-TIMEZONE:Europe/Prague
BEGIN:VEVENT
UID:428@ponava.cafe
DTSTART;TZID=Europe/Prague:20201002T200000
DTEND;TZID=Europe/Prague:20201002T210000
DTSTAMP:20200929T092724Z
URL:https://ponava.cafe/udalosti/zaneta-vitova-accordion-pavel-zlamal-sax-
 clar/
SUMMARY:Žaneta Vítová (accordion) & Pavel Zlámal (sax/clar)
DESCRIPTION:Dvojice brněnských hudebníků a improvizátorů se při svý
 ch koncertech noří do společného naladění\, do jemné\, neuchopiteln
 é úrovně živé hudební komunikace\, do křehkého přediva tkaného v
  přímém přenosu\, s citlivostí i naléhavostí zkušených hráčů a
  tvůrců.\n\nŽaneta Vítová\nje převážně akordeonistka\, dále skla
 datelka\, zpěvačka a lektorka zasahující do dvou hudebních oblastí a
  tím jsou klasická hudba a experimentální improvizovaná hudba.\nZákl
 adní instrumentálně technické dovednosti získala na Pražské konzerv
 atoři odkud s různými odbočkami směřovala rovnou do praxe. Inspiraci
  nabyla z jazzového pole (Ježkova konzervatoř)\, z ateliéru performanc
 e – FAVU a také z dvouleté praxe v lesní mateřské školce\, kde se 
 zabývala podpoření a rozvíjení přirozené hudební dovednosti a krea
 tivity.\nPůsobí v několika kapelách\, v jazzovo-klasické fúzi s prvk
 y volné improvizace – Dust in the Groove/Radima Hanouska. V triu CONTri
 ology – akordeon\, cimbál a zpěv – propojující lidové prvky s kla
 sickými\, uvádějící soudobé autory a autorské kompozice.\nTvoří e
 xperimentální duo se zpěvačkou a hlasovou performankou Annou Matvia a 
 příležitostně vystupuje s Pražským improvizačním orchestrem.\nJako
  host se objevuje v Opeře Národního divadla Brno a v nezávislých oper
 ních souborech Opera Diversa a Hausopera.\n\nPavel Zlámal\nKlarinetista\
 , saxofonista\, improvizátor/skladatel působící v Brně. Absolvent kon
 zervatoře v Teplicích\, magisterského i doktorského programu na brněn
 ské Janáčkově akademii múzických umění. V průběhu studií stráv
 il dva roky na finské Sibelius Academy Helsinki.\nMimo své vzdělání v
  hudbě klasické se ponejvíc orientuje na hudbu soudobou\, experimentál
 ní a improvizační. Pracuje s širokou škálou hudebních praktik a ten
 dencí – od jazzových\, freejazzových\, přes techniky soudobé hudby\
 , po zvukově experimentální a volně improvizační. Povahu hudební im
 provizace pojímá a rozvíjí jako kompoziční nástroj\, ale také jako
  prostředek objevování (a sebeobjevování) - sólově i v podobě kole
 ktivní spolupráce. Důkladný klasický základ\, ale i hluboké zaujet
 í v moderních\, rozšířených a extrémních nástrojových technikác
 h pak společně s improvizačně kompoziční kreativitou vytváří velm
 i specifickou podobu PZ jako hráče\, interpreta\, improvizátora a tvůr
 ce.
ATTACH;FMTTYPE=image/jpeg:https://ponava.cafe/wp-content/uploads/2017/06/t
 apeta.jpg
CATEGORIES:Koncert
END:VEVENT
BEGIN:VTIMEZONE
TZID:Europe/Prague
X-LIC-LOCATION:Europe/Prague
BEGIN:DAYLIGHT
DTSTART:20200329T030000
TZOFFSETFROM:+0100
TZOFFSETTO:+0200
TZNAME:CEST
END:DAYLIGHT
END:VTIMEZONE
END:VCALENDAR