BEGIN:VCALENDAR
VERSION:2.0
PRODID:-//wp-events-plugin.com//7.2.3.1//EN
TZID:Europe/Prague
X-WR-TIMEZONE:Europe/Prague
BEGIN:VEVENT
UID:60@ponava.cafe
DTSTART;TZID=Europe/Prague:20171202T150000
DTEND;TZID=Europe/Prague:20171202T180000
DTSTAMP:20171014T200603Z
URL:https://ponava.cafe/udalosti/vyroba-adventnich-vencu-v-ponave/
SUMMARY:Pletení adventních věnců v Ponavě
DESCRIPTION:Krásu adventního věnce nemusíte vykoupit obývákem od smů
 ly a marným sháněním chvojí.\n\n&nbsp\;\n\nPřijďte si ho uplést k 
 nám do Ponavy (za pěkného počasí venku\, za horšího v boudě).\n\nN
 achystáme pro Vás i potřebné korpusy\, chvojí a další ozdoby.\n\nS 
 sebou si ale vezměte svíčky\, nůžky a cokoliv dalšího\, co vás nap
 adne :)\n\nPočet míst bude omezený\, rezervujte si je e-mailem na produ
 kce@ponava.cafe nebo FB zprávou Ponavě.\n---\nVstupné dobrovolné\, zá
 žitky k nezaplacení\n♥ ♥ ♥
ATTACH;FMTTYPE=image/jpeg:https://ponava.cafe/wp-content/uploads/2017/06/t
 apeta.jpg
END:VEVENT
BEGIN:VTIMEZONE
TZID:Europe/Prague
X-LIC-LOCATION:Europe/Prague
BEGIN:STANDARD
DTSTART:20171029T020000
TZOFFSETFROM:+0200
TZOFFSETTO:+0100
TZNAME:CET
END:STANDARD
END:VTIMEZONE
END:VCALENDAR