BEGIN:VCALENDAR
VERSION:2.0
PRODID:-//wp-events-plugin.com//7.2.3.1//EN
TZID:Europe/Prague
X-WR-TIMEZONE:Europe/Prague
BEGIN:VEVENT
UID:161@ponava.cafe
DTSTART;TZID=Europe/Prague:20180728T190000
DTEND;TZID=Europe/Prague:20180728T190000
DTSTAMP:20180716T093334Z
URL:https://ponava.cafe/udalosti/vousy-2/
SUMMARY:VOUSY
DESCRIPTION:Vousy vám k tanci i poslechu zahrají židovskou hudbu od trad
 ičně pojatých starých klezmerů či židovských čardášů z horský
 ch oblastí Rumunska přes písně ruských a ukrajinských Židů ze zač
 átku 20. století až po předválečné polské jidiš písně směřuj
 ící k swingu. Přijďte se s námi poveselit.
ATTACH;FMTTYPE=image/jpeg:https://ponava.cafe/wp-content/uploads/2017/06/t
 apeta.jpg
CATEGORIES:Koncert
END:VEVENT
BEGIN:VTIMEZONE
TZID:Europe/Prague
X-LIC-LOCATION:Europe/Prague
BEGIN:DAYLIGHT
DTSTART:20180325T030000
TZOFFSETFROM:+0100
TZOFFSETTO:+0200
TZNAME:CEST
END:DAYLIGHT
END:VTIMEZONE
END:VCALENDAR