BEGIN:VCALENDAR
VERSION:2.0
PRODID:-//wp-events-plugin.com//7.2.3.1//EN
TZID:Europe/Prague
X-WR-TIMEZONE:Europe/Prague
BEGIN:VEVENT
UID:222@ponava.cafe
DTSTART;TZID=Europe/Prague:20190228T200000
DTEND;TZID=Europe/Prague:20190228T200000
DTSTAMP:20190130T160753Z
URL:https://ponava.cafe/udalosti/viktorie-cernikova/
SUMMARY:Viktorie Černíková
DESCRIPTION:Poslední únorový koncert v PONAVĚ se bude nést v duchu jem
 ných skladeb v stylu indie/folk hudby v podání mladé české muzikantk
 y Viktorie Černíkové za doprovodu tónů kytary.\n\nVstupné dobrovoln
 é\, zážitky k nezaplacení :)\n\n
ATTACH;FMTTYPE=image/jpeg:https://ponava.cafe/wp-content/uploads/2017/06/t
 apeta.jpg
CATEGORIES:Koncert
END:VEVENT
BEGIN:VTIMEZONE
TZID:Europe/Prague
X-LIC-LOCATION:Europe/Prague
BEGIN:STANDARD
DTSTART:20181028T020000
TZOFFSETFROM:+0200
TZOFFSETTO:+0100
TZNAME:CET
END:STANDARD
END:VTIMEZONE
END:VCALENDAR