BEGIN:VCALENDAR
VERSION:2.0
PRODID:-//wp-events-plugin.com//7.2.3.1//EN
TZID:Europe/Prague
X-WR-TIMEZONE:Europe/Prague
BEGIN:VEVENT
UID:668@ponava.cafe
DTSTART;TZID=Europe/Prague:20230608T180000
DTEND;TZID=Europe/Prague:20230630T234500
DTSTAMP:20230515T142715Z
URL:https://ponava.cafe/udalosti/veronika-savarova/
SUMMARY:Veronika Šavarová
DESCRIPTION:Veronika Šavarová je velice schopná malířka\, která letos
  končí studium v ateliéru Patricie Fexové. Maluje velkoformátové obr
 azy\, které jsou ovlivněny architekturou a rostlinnými motivy. Skrz sv
 é díla vyjadřuje snové prostředí s vlastní vnitřní krajinou.
ATTACH;FMTTYPE=image/jpeg:https://ponava.cafe/wp-content/uploads/2017/06/t
 apeta.jpg
CATEGORIES:Výstava
END:VEVENT
BEGIN:VTIMEZONE
TZID:Europe/Prague
X-LIC-LOCATION:Europe/Prague
BEGIN:DAYLIGHT
DTSTART:20230326T030000
TZOFFSETFROM:+0100
TZOFFSETTO:+0200
TZNAME:CEST
END:DAYLIGHT
END:VTIMEZONE
END:VCALENDAR