BEGIN:VCALENDAR
VERSION:2.0
PRODID:-//wp-events-plugin.com//7.2.3.1//EN
TZID:Europe/Prague
X-WR-TIMEZONE:Europe/Prague
BEGIN:VEVENT
UID:448@ponava.cafe
DTSTART;TZID=Europe/Prague:20210722T180000
DTEND;TZID=Europe/Prague:20210722T210000
DTSTAMP:20210719T115927Z
URL:https://ponava.cafe/udalosti/vernisaz-vystavy-radek-cak-stara-struktur
 a/
SUMMARY:Vernisáž výstavy Radek Čák - Stará Struktura
DESCRIPTION:Vernisáž výstavy Radka Čáka.\n\nRadek Čák\, pocházejíc
 í z Adamova\, vystaví tentokrát sérii maleb\, jejichž základem je fo
 tografická struktura\, "nalezená" autorem jako pozůstatek některé z v
 ýstav v Domě umění\, kde Radek dlouhá léta pracuje jako šéf instal
 ační čety. Rezidua fotografických obrazů ho inspirují k následné p
 ráci s barvou. Radek tak rozvíjí svůj dlouholetý zájem o recyklaci n
 ejen cizí umělecké tvorby.\n\nVýstava potrvá do 24. 8. 2021.\nKuráto
 rka: Lenka Sedláčková\nZa finanční podpory statutárního města Brna
 .
ATTACH;FMTTYPE=image/jpeg:https://ponava.cafe/wp-content/uploads/2021/07/2
 16458400_1456939354691402_8784581992187478206_n.jpg
CATEGORIES:Výstava
END:VEVENT
BEGIN:VTIMEZONE
TZID:Europe/Prague
X-LIC-LOCATION:Europe/Prague
BEGIN:DAYLIGHT
DTSTART:20210328T030000
TZOFFSETFROM:+0100
TZOFFSETTO:+0200
TZNAME:CEST
END:DAYLIGHT
END:VTIMEZONE
END:VCALENDAR