BEGIN:VCALENDAR
VERSION:2.0
PRODID:-//wp-events-plugin.com//7.2.3.1//EN
TZID:Europe/Prague
X-WR-TIMEZONE:Europe/Prague
BEGIN:VEVENT
UID:173@ponava.cafe
DTSTART;TZID=Europe/Prague:20180820T190000
DTEND;TZID=Europe/Prague:20180820T190000
DTSTAMP:20180814T085441Z
URL:https://ponava.cafe/udalosti/vernisaz-vystavy-obrazu-hany-puchove/
SUMMARY:Hana Puchová - Obrazy
DESCRIPTION:Vernisáž obrazů Hany Puchové.\n\nVýběr novějších maleb
  Hany Puchové\, ostravské expresionistické malířky a ilustrátorky st
 řední generace.\n\n&nbsp\;\n\nHana Puchová *1966\n\nStudia:\n\n1991-199
 7 Vysoká škola uměleckoprůmyslová v Praze (Ateliér ilustrace a grafi
 ky\, Jiří Šalamoun)\n\n1996 studijní pobyt v Marseille\, Francie\n\n&n
 bsp\;\n\nhttp://www.artlist.cz/hana-puchova-108527/\n\n&nbsp\;\n\nVýstava
  potrvá do 23. září 2018.\n\n&nbsp\;\n\nKurátor: Jan Karpíšek
ATTACH;FMTTYPE=image/jpeg:https://ponava.cafe/wp-content/uploads/2017/06/t
 apeta.jpg
CATEGORIES:Výstava
END:VEVENT
BEGIN:VTIMEZONE
TZID:Europe/Prague
X-LIC-LOCATION:Europe/Prague
BEGIN:DAYLIGHT
DTSTART:20180325T030000
TZOFFSETFROM:+0100
TZOFFSETTO:+0200
TZNAME:CEST
END:DAYLIGHT
END:VTIMEZONE
END:VCALENDAR