BEGIN:VCALENDAR
VERSION:2.0
PRODID:-//wp-events-plugin.com//7.2.3.1//EN
TZID:Europe/Prague
X-WR-TIMEZONE:Europe/Prague
BEGIN:VEVENT
UID:90@ponava.cafe
DTSTART;TZID=Europe/Prague:20180216T190000
DTEND;TZID=Europe/Prague:20180216T190000
DTSTAMP:20180125T164149Z
URL:https://ponava.cafe/udalosti/vernisaz-lukas-orlita/
SUMMARY:Vernisáž - Lukáš Orlita
DESCRIPTION:Vernisáž výstavy obrazů Lukáše Orlity.\n\nOstrá expresiv
 ní malba protne únorovou šeď.\nPevně zakotven v mistrovsky zvládnut
 ém řemesle\, rozšířil původně figurální malíř Orlita svůj výr
 azový rejstřík i o další podoby malířství: semi-abstraktní krajin
 omalbu s architekturou\, ornamentální geometrickou abstrakci\, abstraktn
 í expresionismus a abstrakci postavenou na fyzikálně chemických změn
 ách materiálu. A právě poslední tři jmenované si připomeneme ve č
 tyři roky staré sérii velkoformátových "skládaček". I když aktuál
 ně umělec hledá rovnováhu ve figurálně symbolistním výkladu světa
  a zabývá se tíživými archetypy životních etap a neřestí. Výklad
  obrazů vybraných na výstavu v Ponavě nazvanou Jehla se však může s
 ymbolismu a bilancovaní pichlavých aspektů života velmi blížit.\n\nL
 ukáš Orlita (*1974)\nStudium: 1994-2000 FaVU VUT\, ateliér figurální 
 malby\, (prof. Jiří Načeradský)\n1989-1993 Střední škola umělecký
 ch řemesel Brno\, malba\n\nhttp://www.lukasorlita.cz/\n\nVýstava potrvá
  do 15. 3. 2018.\n\nKurátor: Jan Karpíšek\n\n
ATTACH;FMTTYPE=image/jpeg:https://ponava.cafe/wp-content/uploads/2017/06/t
 apeta.jpg
CATEGORIES:Výstava
END:VEVENT
BEGIN:VTIMEZONE
TZID:Europe/Prague
X-LIC-LOCATION:Europe/Prague
BEGIN:STANDARD
DTSTART:20171029T020000
TZOFFSETFROM:+0200
TZOFFSETTO:+0100
TZNAME:CET
END:STANDARD
END:VTIMEZONE
END:VCALENDAR