BEGIN:VCALENDAR
VERSION:2.0
PRODID:-//wp-events-plugin.com//7.2.3.1//EN
TZID:Europe/Prague
X-WR-TIMEZONE:Europe/Prague
BEGIN:VEVENT
UID:308@ponava.cafe
DTSTART;TZID=Europe/Prague:20190919T190000
DTEND;TZID=Europe/Prague:20190919T190000
DTSTAMP:20190827T143117Z
URL:https://ponava.cafe/udalosti/tyjatrio-2/
SUMMARY:TyJáTrio
DESCRIPTION:Hospodská halekačka\, rozervaný šanson či swingová jízda
  od kultovního Djanga.\n\nEva Křivánková - zpěv\nVladimír Červenka 
 - zpěv\, kytara\nVladimír Večerka - bicí\, perkuse\nŠimon Jakubíček
  - zpěv\, kontrabas\nIrena Ošťádalová - zpěv\, flétna\nOndřej Zám
 ečník - akordeón\n\nVstupné dobrovolné\, zážitky k nezaplacení. 
 🙂\n\n
ATTACH;FMTTYPE=image/jpeg:https://ponava.cafe/wp-content/uploads/2017/06/t
 apeta.jpg
CATEGORIES:Koncert
END:VEVENT
BEGIN:VTIMEZONE
TZID:Europe/Prague
X-LIC-LOCATION:Europe/Prague
BEGIN:DAYLIGHT
DTSTART:20190331T030000
TZOFFSETFROM:+0100
TZOFFSETTO:+0200
TZNAME:CEST
END:DAYLIGHT
END:VTIMEZONE
END:VCALENDAR