BEGIN:VCALENDAR
VERSION:2.0
PRODID:-//wp-events-plugin.com//7.2.3.1//EN
TZID:Europe/Prague
X-WR-TIMEZONE:Europe/Prague
BEGIN:VEVENT
UID:138@ponava.cafe
DTSTART;TZID=Europe/Prague:20180711T210000
DTEND;TZID=Europe/Prague:20180711T210000
DTSTAMP:20180709T191850Z
URL:https://ponava.cafe/udalosti/ty-sycaci/
SUMMARY:Ty Syčáci
DESCRIPTION:Ty Syčáci\n\nv čele s legendárním Petrem Vášou se už os
 mnáctým rokem vrací na koncertní místa a těší se velké oblibě d
 íky svému nasazení na pódiu a strhující atmosféře\, kterou dokáž
 í během hraní vytvořit. Největšími devízami Těch Syčáků je nek
 ompromisní\, ostrý styl a vytrvalost ve ztvárňování vlastních před
 stav. Syčáci nahráli sedm alb. Zatím poslední „TyTyTy“vyšlo v ro
 ce 2015 a bylo nahráno živě v klubu Stará Pekárna v Brně. Nyní dod
 ělávají dlouho očekávané album The Tramp\, které by mělo vyjít na
  podzim. Aktuálně vystupují s programem sestaveným z průřezu všemi 
 alby. Informace najdete na www.tysycaci.cz\n\n
ATTACH;FMTTYPE=image/jpeg:https://ponava.cafe/wp-content/uploads/2017/06/t
 apeta.jpg
CATEGORIES:Koncert
END:VEVENT
BEGIN:VTIMEZONE
TZID:Europe/Prague
X-LIC-LOCATION:Europe/Prague
BEGIN:DAYLIGHT
DTSTART:20180325T030000
TZOFFSETFROM:+0100
TZOFFSETTO:+0200
TZNAME:CEST
END:DAYLIGHT
END:VTIMEZONE
END:VCALENDAR