BEGIN:VCALENDAR
VERSION:2.0
PRODID:-//wp-events-plugin.com//7.2.3.1//EN
TZID:Europe/Prague
X-WR-TIMEZONE:Europe/Prague
BEGIN:VEVENT
UID:433@ponava.cafe
DTSTART;TZID=Europe/Prague:20210613T200000
DTEND;TZID=Europe/Prague:20210613T220000
DTSTAMP:20210613T131504Z
URL:https://ponava.cafe/udalosti/ty-sycaci-3/
SUMMARY:Ty Syčáci - !PŘESUNUTO NA 13.6.2021!
DESCRIPTION:&nbsp\;\n\n\nKlasici brněnské alternativy\, staří dobří S
 yčáci už se taky třesou na své první vystoupení po dlouhém půstu.
 \nA bude to u nás/u vás v parku!\n\nTěšit se můžete jak na pecky z p
 osledního alba The Tramp\, tak na lokomotivy a jiné motivy.\n\nPetra Vá
 ša\nTomáš Fröhlich\nPetr Zavadil\n\nwww.tysycaci.cz
ATTACH;FMTTYPE=image/jpeg:https://ponava.cafe/wp-content/uploads/2021/06/D
 SC_9217.jpg
CATEGORIES:Koncert
END:VEVENT
BEGIN:VTIMEZONE
TZID:Europe/Prague
X-LIC-LOCATION:Europe/Prague
BEGIN:DAYLIGHT
DTSTART:20210328T030000
TZOFFSETFROM:+0100
TZOFFSETTO:+0200
TZNAME:CEST
END:DAYLIGHT
END:VTIMEZONE
END:VCALENDAR