BEGIN:VCALENDAR
VERSION:2.0
PRODID:-//wp-events-plugin.com//7.2.3.1//EN
TZID:Europe/Prague
X-WR-TIMEZONE:Europe/Prague
BEGIN:VEVENT
UID:258@ponava.cafe
DTSTART;TZID=Europe/Prague:20190619T190000
DTEND;TZID=Europe/Prague:20190619T190000
DTSTAMP:20190428T214447Z
URL:https://ponava.cafe/udalosti/ty-sycaci-2/
SUMMARY:Ty Syčáci
DESCRIPTION:19.6. v PONAVĚ vystoupí Ty Syčáci na čele s Petrem Vášou
 .\n\nNejvětšími devízami Těch Syčáků je nekompromisní\, ostrý st
 yl a vytrvalost ve ztvárňování vlastních představ. Co platilo pro fy
 zického básníka Vášu\, platí i pro kapelu: nepřizpůsobuje se žán
 rům\, ale sama si je vytváří.\n\nV roce 2013 vydali své první album 
 Eldorado\, v roce 2015 živé album TyTyTy\, nahrané na koncertě v Brně
  v klubu Stará Pekárna\, a v roce 2018 album THE TRAMP! volně navazují
 cí na album Eldorado. Společně tvoří dvě části jednoho celku\, pos
 ledního dílu syčácké trilogie o dětech\, rodičích a prarodičích\
 , kterému předcházely experimentální „opery“ SSSS (2002) a Lišá
 k je lišák (2005). Album vyšlo v říjnu 2018 při příležitosti výr
 očí založení republiky a sto let trampingu. Aktuálně vystupují s pr
 ogramem sestaveným z průřezu všemi alby.\n\nBěhem své činnosti Ty S
 yčáci několikrát doprovázeli němé filmy z počátku 20. století\, 
 poprvé na Filmové škole v Uherském Hradišti\, kde hráli k hororu Nos
 feratu\, později to byli Nibelungové\, Faust a gruzínská groteska Šor
  a Šoršor. V srpnu 2007 vytvořili na filmovém festivalu v Litoměřic
 ích doprovod k hodinové grotesce Bustera Keatona FRIGO PLAVE (NAVIGATOR)
 \, který si ve spolupráci s vedením festivalu (www.kinoostrov.cz) tento
 krát sami vybrali a který poté doprovázeli i na dalších festivalech 
 Moffom (www.moffom.cz) v Brně a Uherském Hradišti. Informace najdete na
  www.tysycaci.cz\n\n\n\n.                        
                                      
                       Vstupné dobrovolné\, zážitk
 y k nezaplacení :)
ATTACH;FMTTYPE=image/jpeg:https://ponava.cafe/wp-content/uploads/2017/06/t
 apeta.jpg
CATEGORIES:Koncert
END:VEVENT
BEGIN:VTIMEZONE
TZID:Europe/Prague
X-LIC-LOCATION:Europe/Prague
BEGIN:DAYLIGHT
DTSTART:20190331T030000
TZOFFSETFROM:+0100
TZOFFSETTO:+0200
TZNAME:CEST
END:DAYLIGHT
END:VTIMEZONE
END:VCALENDAR