BEGIN:VCALENDAR
VERSION:2.0
PRODID:-//wp-events-plugin.com//7.2.3.1//EN
TZID:Europe/Prague
X-WR-TIMEZONE:Europe/Prague
BEGIN:VEVENT
UID:139@ponava.cafe
DTSTART;TZID=Europe/Prague:20180801T190000
DTEND;TZID=Europe/Prague:20180801T190000
DTSTAMP:20180702T085017Z
URL:https://ponava.cafe/udalosti/tubabu/
SUMMARY:Tubabu fila
DESCRIPTION:Tubabu fila\n\nRytmy západní Afriky. Duet dvou bubeníků hra
 jících na africké bubny djembé a dundun. Repertoár je složený z tra
 dičních rytmů\, které se v západní Africe hrají na slavnostech jako
  hudební doprovod k tanci. Většina programu pochází z maliské djemb
 é – dununové tradice.
ATTACH;FMTTYPE=image/jpeg:https://ponava.cafe/wp-content/uploads/2017/06/t
 apeta.jpg
CATEGORIES:Koncert
END:VEVENT
BEGIN:VTIMEZONE
TZID:Europe/Prague
X-LIC-LOCATION:Europe/Prague
BEGIN:DAYLIGHT
DTSTART:20180325T030000
TZOFFSETFROM:+0100
TZOFFSETTO:+0200
TZNAME:CEST
END:DAYLIGHT
END:VTIMEZONE
END:VCALENDAR