BEGIN:VCALENDAR
VERSION:2.0
PRODID:-//wp-events-plugin.com//7.2.3.1//EN
TZID:Europe/Prague
X-WR-TIMEZONE:Europe/Prague
BEGIN:VEVENT
UID:420@ponava.cafe
DTSTART;TZID=Europe/Prague:20201201T200000
DTEND;TZID=Europe/Prague:20201201T210000
DTSTAMP:20200908T073353Z
URL:https://ponava.cafe/udalosti/treetop-2/
SUMMARY:Treetop
DESCRIPTION:Projekt Treetop byl založen před dvěma lety\, když jednotli
 ví hudebníci společně žili\, hráli a studovali v Brně. Složení ak
 ordeon\, trombon a kontrabas nevzniklo z potřeby přijít za každou cenu
  s něčím šokujícím a neotřelým\, jde především o přirozené se
 skupení tří lidí\, kteří si hudebně i lidsky rozumí a vzájemná s
 polupráce je inspiruje. Původní autorský repertoár tria je rozmanitý
 \, pojímá vlivy jazzu\, lidové hudby\, klasické hudby i kompozičních
  postupů soudobé hudby. Všichni tři jsme spoluhráči v projektech se 
 širokým žánrovým rozpětím a snažíme se přinést do hudby tria co
 koliv\, co nám na současné hudbě připadá zajímavé\, a tím zkoumá
 me zvukové možnosti této instrumentace.\n\nVojtěch Drnek - akordeon\nR
 ichard Šanda - trombon\nMichal Šelep - kontrabas\n\n"Členové tria Tree
 top právem patří k nejvyhledávanějším mladým hudebníkům v Česku
  i na Slovensku. Jejich mimořádné interpretační schopnosti jdou ruku 
 v ruce s náročnými aranžemi a neotřelými kompozicemi\, které ješt
 ě víc vynikají díky jejich profesionálnímu sehrání. Jedná se tak 
 o skvělý vzorek pro reprezentaci své umělecké generace v zahraničí.
 “ - Dagmar Ostřanská\, ředitelka Českého centra v Sofii (Bulharsko)
 \nTreetop má za sebou několik menších turné po Česku a Polsku a tak
 é turné v Bulharsku pod záštitou Českého centra v Sofii.\n\nHudba:\n
 https://triotreetop.bandcamp.com/releases
ATTACH;FMTTYPE=image/jpeg:https://ponava.cafe/wp-content/uploads/2017/06/t
 apeta.jpg
CATEGORIES:Koncert
END:VEVENT
BEGIN:VTIMEZONE
TZID:Europe/Prague
X-LIC-LOCATION:Europe/Prague
BEGIN:STANDARD
DTSTART:20201025T020000
TZOFFSETFROM:+0200
TZOFFSETTO:+0100
TZNAME:CET
END:STANDARD
END:VTIMEZONE
END:VCALENDAR