BEGIN:VCALENDAR
VERSION:2.0
PRODID:-//wp-events-plugin.com//7.2.3.1//EN
TZID:Europe/Prague
X-WR-TIMEZONE:Europe/Prague
BEGIN:VEVENT
UID:150@ponava.cafe
DTSTART;TZID=Europe/Prague:20180713T190000
DTEND;TZID=Europe/Prague:20180713T190000
DTSTAMP:20180618T061159Z
URL:https://ponava.cafe/udalosti/transcendentalni-tanecni-vecirek/
SUMMARY:Transcendentální taneční večírek
DESCRIPTION:Divergent Connections Orchestra - Transcendentální taneční
  večírek (párty) - 3. část z Cyklu několika diverzních forem\n\nDi
 vergent Connections Orchestra\n\n\n\nImprovizační orchestr se na scéně
  objevil poprvé v r. 2014\, byl založen brněnským\nimprovizátorem a e
 xperimentátorem (absolventem a nyní též pedagogem JAMU) Pavlem\nZláma
 lem\, který je i jeho uměleckým vedoucím a dirigentem. Těleso je obsa
 zeno zkušenými\nhudebníky různých žánrových zaměření\, které s
 pojuje společná myšlenka objevování a hledání i za\nhranicemi zaved
 ených zvyklostí. Hudební kvality členů umožňují nejen nekompromisn
 í zvukové\nexperimenty\, ale i užívání stylových klišé v překvap
 ivých\, neokoralých souvislostech. Systémem\nneklasických dirigentský
 ch gest pak Zlámal jako dirigent usměrňuje hudební tok. Takto vznikaj
 ící\nhudba je dílem přítomného momentu\, výsledkem vzájemné inter
 akce mezi hudebníky a dirigentem.\nAmbice a potenciál tohoto orchestru v
 šak nezůstávají jen u hudebního vyjadřování.\nPůsobnost „tvoře
 ní v přímém přenosu“ je rozšiřována o složku výtvarnou\, drama
 tickou\, taneční či\nperformativní.\nBalancování na hraně nejistoty
  a překvapení nechává vzpomenout jména jako např. Frank\nZappa\, Bar
 ry Guy\, Walter Thomson\, John Zorn\, Butch Morris\, Evan Parker\, Sun Ra 
 Arkestra a\ndalší.\nDivergent Connections Orchestra dále rozšiřuje š
 kálu progresivních projektů\, který\, po\navantgardní Next Phase či 
 volně improvizačním Brno Improvising Unit\, nese filosofický „rukopi
 s“\nsvého zakladatele a uměleckého vedoucího\, Pavla Zlámala.\nV č
 ervnu 2017 vydal orchestr své debutové CD - „Odlet III“ u brněnské
 ho vydavatelství Ears &amp\;\nWind Records\nwww.pavelzlamal.com\n\nCyklus
  několika diverzních forem\nk příležitosti 100. výročí vzniku Čes
 koslovenska\n\nExperimentální těleso Divergent Connections Orchestra (d
 irigent a umělecký vedoucí\nPavel Zlámal) uvádí cyklus oslavných ku
 lturních akcí věnovaný 100. výročí vzniku\nČeskoslovenska.\nZ pozi
 ce „uprostřed“ (mezi Českem a Slovenskem – z Brna roku 2018) refle
 ktuje v pěti (či\nvíce?) autonomních formách některé motivy\, kter
 é vnímá jako prvky spjaté s národní\nidentitou. Zároveň takové pr
 vky\, které nutně nestojí na prvních místech oficiálních\nreprezent
 ativních výčtů. Není tedy tento cyklus oslavou činů velkolepých č
 i toužících po\nsvětovosti\, nýbrž naopak\, spíše člověka prost
 ého a jeho obyčejnosti (tedy i takové\, kterou\nzlí jazykové někdy o
 značují za středoevropské / české ignorantství – v čemž mají n
 ěkdy\npravdu\, jindy tím zase vynáší ignorantství své vlastní).\nK
 oncept si tedy všímá (a čerpá z) takové obyčejnosti\, která\, jak
 ýmsi skrytým či\npodvědomým algoritmem společensko-historického dě
 dictví\, absorbuje a přetváří vnější\nvlivy\, stejně jako výrazn
 á puzení zevnitř vlastních řad. Obyčejnost\, která pak v dobrém i\
 nšpatném prosakuje do celkového obrazu národa\, spolucharakterizuje ne
 jen jeho umístění\,\nale také úlohu a předurčení v kontextu mezin
 árodním. Absence hrdinných témat a\npompézních ambicí dává prosto
 r k objevování drobnějších\, ale každému v podstatě\nznámých a b
 lízkých věcí\, které k našim zeměpisným šířkám a tedy i nátur
 ám tak nějak\npatří. (Chléb\, pivo\, tanec\, ulice - veřejný život
 \, veřejný prostor atd).\nCyklus je (stejně jako samotná existence DCO
 ) motivován primárně touhou tvořit\,\nsvobodně\, nepoplatným způsob
 em\, rozhýbávat ledy. Nadto však přijímá historické\njubileum jako 
 podnět zamyšlení (svého druhu bilančnímu)\, čímž přesahuje do vl
 astenecké\nzpovědi: vyjadřuje přijetí zmíněné obyčejnosti\, onoho
  nejednoznačného\, ambivalentního\ndědictví rodné hroudy a tedy i zo
 dpovědnosti za ně. Je tak nejen konstatováním stavu\nvěcí\, ale i pr
 ovoláním životního stanoviska\, manifestem\, který si je dobře vědo
 m toho\, že\nobyčejnost je někdy neotesaná\, „neušlechtilá“\, om
 ezující a urputně zpátečnická\, ale také\ntoho\, že se v této na
 ší obyčejnosti skrývá i mnoho věcí jedinečných a milých\, jako j
 e kupř.\nprostota a opravdovost\, nezištná a srdečná laskavost či po
 etický humor a nadsázka.\n\n1. Melodram o chlebu a soli 30.5.2018\n2. Au
 rální dějiny Brna 14.6.2018\n3. Transcendentální taneční párty 13.
 7.2018\n4. 100 let 100 piv- někdy v září 2018\n5. Slavnostní koncert 
 – asi říjen 2018
ATTACH;FMTTYPE=image/jpeg:https://ponava.cafe/wp-content/uploads/2017/06/t
 apeta.jpg
CATEGORIES:Koncert
END:VEVENT
BEGIN:VTIMEZONE
TZID:Europe/Prague
X-LIC-LOCATION:Europe/Prague
BEGIN:DAYLIGHT
DTSTART:20180325T030000
TZOFFSETFROM:+0100
TZOFFSETTO:+0200
TZNAME:CEST
END:DAYLIGHT
END:VTIMEZONE
END:VCALENDAR