BEGIN:VCALENDAR
VERSION:2.0
PRODID:-//wp-events-plugin.com//7.2.3.1//EN
TZID:Europe/Prague
X-WR-TIMEZONE:Europe/Prague
BEGIN:VEVENT
UID:85@ponava.cafe
DTSTART;TZID=Europe/Prague:20180128T180000
DTEND;TZID=Europe/Prague:20180128T180000
DTSTAMP:20180105T173143Z
URL:https://ponava.cafe/udalosti/tomas-lotocki-mali-kapesni-snehulacci/
SUMMARY:Tomáš Lotocki – Malí kapesní sněhuláčci
DESCRIPTION:Autorské čtení brněnského básníka spojené se křtem jeh
 o nové knihy.\nHudební doprovod Irena a Vojtěch Havlovi.\n\n\n\nTomáš
  Lotocki (*1977)\, básník a publicista. Vydal básnické sbírky: Chuť 
 vína (2002\, MSD\, Brno)\, Čeřeny (2011\, Weles)\, Kázání na Mniší
  hoře (2015\, Ears &amp\; Wind Records/Weles). Společně s Ivanem Petla
 nem uspořádal antologii Co si myslí andělíček – dítě v české 
 poezii (2004\, Větrné mlýny/LFŠ v Uherském Hradišti). Jeho posledn
 ím knižním počinem je poema Malí kapesní sněhuláčci\, kterou na k
 onci minulého roku ve společné edici HeWer vydali Weles a Herberk. Poez
 ii publikuje i časopisecky a je zastoupen v několika antologiích. Spol
 upracuje také s Českým rozhlasem. V letech 2012 – 2016 byl šéfred
 aktorem internetového časopisu Herberk – útulna poezie. V Ponavě p
 ůsobí i jako dramaturg literárních pořadů. Žije v Brně.\n\nIRENA 
 &amp\; VOJTĚCH HAVLOVI\nManželská hudební dvojice\, počátky jejich u
 mělecké spolupráce spadají do 80. let minulého století. Od té doby 
 úspěšně rozvíjejí svoje nevšední pojetí tradičních i novodobýc
 h skladebných technik a interpretačních postupů. Jejich osobitý autor
 ský výraz se vzpírá zařazení do jakékoli hudební škatulky. Výraz
 ový rozptyl používaných vyjadřovacích prostředků bývá totiž u m
 anželů Havlových ve většině případů natolik rozmanitý\, mnohotv
 árný a hlavně neustále se proměňující\, že jakýkoliv pokus o ale
 spoň rámcové slovní zachycení podstaty jejich muzikantského dialogu 
 za konkrétní skutečností nutně pokulhává.\nInspiraci pro hudební\,
  ale i vlastní filmovou tvorbu nalézají i v prostředí Indie\, kterou
  několikrát navštívili. V letošním roce zkomponovali hudbu pro úsp
 ěšný film Křižáček (Křišťálový globus pro nejlepší film na M
 FF Karlovy Vary)\, inspirovaný básní Jaroslava Vrchlického.
ATTACH;FMTTYPE=image/jpeg:https://ponava.cafe/wp-content/uploads/2017/06/t
 apeta.jpg
CATEGORIES:Autorské čtení
END:VEVENT
BEGIN:VTIMEZONE
TZID:Europe/Prague
X-LIC-LOCATION:Europe/Prague
BEGIN:STANDARD
DTSTART:20171029T020000
TZOFFSETFROM:+0200
TZOFFSETTO:+0100
TZNAME:CET
END:STANDARD
END:VTIMEZONE
END:VCALENDAR