BEGIN:VCALENDAR
VERSION:2.0
PRODID:-//wp-events-plugin.com//7.2.3.1//EN
TZID:Europe/Prague
X-WR-TIMEZONE:Europe/Prague
BEGIN:VEVENT
UID:924@ponava.cafe
DTSTART;TZID=Europe/Prague:20260226T200000
DTEND;TZID=Europe/Prague:20260226T230000
DTSTAMP:20260202T214938Z
URL:https://ponava.cafe/udalosti/tloopa/
SUMMARY:TLOOPA
DESCRIPTION:Vznik Tloopy spadá do druhé poloviny let devadesátých\, kdy
  světovou hudební scénu formoval klubový house a techno sound. Z půvo
 dního sedmičlenného tělesa zůstali dva skalní a nezlomní bubeníci 
 Ondřej Humlíček a Hans Machala\, doplnění o tajemnou multidimenzioná
 lní bytost zvanou Lama X. Varování: Produkce může obsahovat stopy hou
 se\, techna\, trip hopu a jiných toxických stylů.\n
ATTACH;FMTTYPE=image/jpeg:https://ponava.cafe/wp-content/uploads/2026/02/t
 loopa.jpeg
END:VEVENT
BEGIN:VTIMEZONE
TZID:Europe/Prague
X-LIC-LOCATION:Europe/Prague
BEGIN:STANDARD
DTSTART:20251026T020000
TZOFFSETFROM:+0200
TZOFFSETTO:+0100
TZNAME:CET
END:STANDARD
END:VTIMEZONE
END:VCALENDAR