BEGIN:VCALENDAR
VERSION:2.0
PRODID:-//wp-events-plugin.com//7.2.3.1//EN
TZID:Europe/Prague
X-WR-TIMEZONE:Europe/Prague
BEGIN:VEVENT
UID:269@ponava.cafe
DTSTART;TZID=Europe/Prague:20190620T190000
DTEND;TZID=Europe/Prague:20190620T190000
DTSTAMP:20190620T150427Z
URL:https://ponava.cafe/udalosti/the-swingmode-swing-v-ponave/
SUMMARY:The Swingmode | Swing v Ponavě
DESCRIPTION:První ze série letních swingových tančíren v Ponavě!\n\n
 The Swingmode je kapela z Brna s mezinárodním obsazením hrající swing
 ovou muziku 30. a 40. let pro tanečníky i posluchače. Kapelu založil v
  roce 2015 kytarista Ľuboš Dubový (SK) spolu s basistou Štěpánem Ž
 ákem (CZ) a klarinetistou Danem Polákem (CZ)\, později se připojili ky
 tarista a zpěvák Martin Lauer (CZ)\, zpěvačka Ingrid Alloggio (IT) a b
 ubeník Anadi Mishra (IT). Zpočátku kapela hrála hlavně instrumentáln
 í skladby z repertoáru Benny Goodmana a Charlie Christiana v obsazení d
 vou kytar\, kontrabasu a klarinetu\, po rozšíření však převažuje zp
 ívaný repertoár. Kapela má za sebou vystoupení na řadě swingových 
 festivalů v Brně např. Jazz Berry Hop\, Dark Blue Swing atd.\, několik
 rát též vystupovala i v Music Labu. Většina členů the Swingmode jso
 u také tanečníky swingu a jeho koncerty jsou i z tohoto důvodu vždy p
 lné energie a dobré nálady.\n\nMartin Lauer – kytara\, zpěv\nIngrid 
 Alloggio – zpěv\nŠtěpán Žák – kontrabas\nFilip Korsa – klarine
 t\, sax\nAnadi Mishra – bicí\n\nVstupné dobrovolné\, zážitky k neza
 placení. :)\n\n
ATTACH;FMTTYPE=image/jpeg:https://ponava.cafe/wp-content/uploads/2017/06/t
 apeta.jpg
CATEGORIES:Koncert
END:VEVENT
BEGIN:VTIMEZONE
TZID:Europe/Prague
X-LIC-LOCATION:Europe/Prague
BEGIN:DAYLIGHT
DTSTART:20190331T030000
TZOFFSETFROM:+0100
TZOFFSETTO:+0200
TZNAME:CEST
END:DAYLIGHT
END:VTIMEZONE
END:VCALENDAR