BEGIN:VCALENDAR
VERSION:2.0
PRODID:-//wp-events-plugin.com//7.2.3.1//EN
TZID:Europe/Prague
X-WR-TIMEZONE:Europe/Prague
BEGIN:VEVENT
UID:245@ponava.cafe
DTSTART;TZID=Europe/Prague:20190404T200000
DTEND;TZID=Europe/Prague:20190404T200000
DTSTAMP:20190318T154829Z
URL:https://ponava.cafe/udalosti/the-preacher-men/
SUMMARY:The Preacher Men
DESCRIPTION:Ve čtvrtek nám zahrajou belgický The Preacher Men ve složen
 í Boer Stef/zpěv\, chainbox\, Bram Ghyoot/zpěv\, kytara\, Remco Houtman
 -Janssen/zpěv\, banjo\, mandolína\, kytara\, Kurt Lefevre/ zpěv\, kyata
 ra\, Jan Vereecken/zpěv\, banjo\, ukulele\, harmonika\, Dieter Verkest/ k
 ontraba.\n\nKapela The Preacher Men vznikla v polovině roku 2013 jako dob
 rá záminka k pravidelnímu setkávání se a popíjení. Po tom\, co v k
 ině viděli film The Broken Circle Breakdown\, rozhodli se hrát country 
 hudbu. Nikto z nich ovšem nevědel nic o country nebo bluegrass\, ale ten
 hle drobný detail rychle zmizel po kapce (nebo dvou) whisky. Repertoár k
 apely se pohybuje od klasických country písniček cez více obskurnějš
 í až po originály - ne bluegrass s virtuózní přesností\, ale nákla
 d syrové akustické energie. The Preacher Men hrají na různé druhy ban
 jos\, kytary a další strunové nástroje a všichni zpívaj jako by na t
 om záviseli jeich životy. Tahle kapela má jedno a jenom jedno heslo: ž
 ádné šťastné písně.\n\n\n\n&nbsp\;\n\n.              
                                      
                  Vstupné dobrovolné\, zážitky k nezapl
 acení :)
ATTACH;FMTTYPE=image/jpeg:https://ponava.cafe/wp-content/uploads/2017/06/t
 apeta.jpg
CATEGORIES:Koncert
END:VEVENT
BEGIN:VTIMEZONE
TZID:Europe/Prague
X-LIC-LOCATION:Europe/Prague
BEGIN:DAYLIGHT
DTSTART:20190331T030000
TZOFFSETFROM:+0100
TZOFFSETTO:+0200
TZNAME:CEST
END:DAYLIGHT
END:VTIMEZONE
END:VCALENDAR