BEGIN:VCALENDAR
VERSION:2.0
PRODID:-//wp-events-plugin.com//7.2.3.1//EN
TZID:Europe/Prague
X-WR-TIMEZONE:Europe/Prague
BEGIN:VEVENT
UID:255@ponava.cafe
DTSTART;TZID=Europe/Prague:20190610T200000
DTEND;TZID=Europe/Prague:20190610T200000
DTSTAMP:20190610T102219Z
URL:https://ponava.cafe/udalosti/the-abs/
SUMMARY:The Abs
DESCRIPTION:Spektakulózní Pupci se vrací do Brna!!! Triumvirát bortíc
 í postuláty jazzové manýry s maskulinní apetencí zafixluje rovněž 
 v Ponavě a to 10. června.\n\nKe zrodu kapely The Abs došlo na půdě br
 něnské JAMU\, a to 18. 10. 2016 v 9:36\, kdy poprvé veřejně vystoupil
 a v rámci interpretačního semináře. Repertoár kapely je složen jak 
 z originálních kompozic\, tak z převzatých popových či rockových p
 ísní s jednoznačnou tendencí pouze autorské tvorby v budoucnu. K insp
 iračním vlivům The Abs (mimo vymakaná a zpocená těla v posilovně) p
 atří country\, Delta blues\, avantgardní směry druhé poloviny dvacát
 ého století a hudba afrického kontinentu.\n\nMichal Šelep - kontrabas\
 nVít Beneš - kytara\nAdam Sikora - bicí a juju seed rattle\n\nhttps://w
 ww.theabs.net/ https://www.youtube.com/watch?v=mKWmLkuyP70\n\n\n\n.   
                                      
                           Vstupné dobrovolné\, 
 zážitky k nezaplacení. :)
ATTACH;FMTTYPE=image/jpeg:https://ponava.cafe/wp-content/uploads/2017/06/t
 apeta.jpg
CATEGORIES:Koncert
END:VEVENT
BEGIN:VTIMEZONE
TZID:Europe/Prague
X-LIC-LOCATION:Europe/Prague
BEGIN:DAYLIGHT
DTSTART:20190331T030000
TZOFFSETFROM:+0100
TZOFFSETTO:+0200
TZNAME:CEST
END:DAYLIGHT
END:VTIMEZONE
END:VCALENDAR