BEGIN:VCALENDAR
VERSION:2.0
PRODID:-//wp-events-plugin.com//7.2.3.1//EN
TZID:Europe/Prague
X-WR-TIMEZONE:Europe/Prague
BEGIN:VEVENT
UID:83@ponava.cafe
DTSTART;TZID=Europe/Prague:20180221T190000
DTEND;TZID=Europe/Prague:20180221T190000
DTSTAMP:20171214T004152Z
URL:https://ponava.cafe/udalosti/tango/
SUMMARY:Tango Quartetto Re Campo
DESCRIPTION:Soubor Tango Quartteto ReCampo / Petr Zámečník-akordeon\, Pa
 vla Jahodová-violoncello\, Jana Něničková-příčná flétna Lukáš K
 rejčí-perkuse / hraje tangové taneční i koncertní standardy\, ale i 
 méně známé kusy od Astora Piazzolly\, Anibala Troila\, Vicente Greca a
  dalších jihoameričanů v neotřelém periferním zvuku a aranžmá na 
 pomezí starého tanga\,jazzových inspirací a improvizace.To všechno Tr
 io kombinuje s autorskými\nskladbami Petra Zámečníka v novém\, souča
 sném stylu Moravia Tango ve kterém se mísí tango s moravskými a itals
 kými melodiemi soudobou hudbou a improvizacemi. Kapela vystoupila od roku
  2006 na mnoha koncertech i festivalech u nás i v zahraničí /např: Vol
 kstheater Wien\, Mezinárodní hudební festival Dvořákova Olomouc\, Jan
 áčkovo divadlo Brno \,Bystřické hudební slavnosti atd. /Tangové prod
 ukce mohou být obohaceny zpěvem Kláry Šmahelové a tanečními kreacem
 i ve vlastní choreografii Markéty Ružičkové a Tomáše Juřičky.
ATTACH;FMTTYPE=image/jpeg:https://ponava.cafe/wp-content/uploads/2017/06/t
 apeta.jpg
CATEGORIES:Koncert
END:VEVENT
BEGIN:VTIMEZONE
TZID:Europe/Prague
X-LIC-LOCATION:Europe/Prague
BEGIN:STANDARD
DTSTART:20171029T020000
TZOFFSETFROM:+0200
TZOFFSETTO:+0100
TZNAME:CET
END:STANDARD
END:VTIMEZONE
END:VCALENDAR