BEGIN:VCALENDAR
VERSION:2.0
PRODID:-//wp-events-plugin.com//7.2.3.1//EN
TZID:Europe/Prague
X-WR-TIMEZONE:Europe/Prague
BEGIN:VEVENT
UID:416@ponava.cafe
DTSTART;TZID=Europe/Prague:20200929T200000
DTEND;TZID=Europe/Prague:20200929T213000
DTSTAMP:20200929T062759Z
URL:https://ponava.cafe/udalosti/talaqpo-2/
SUMMARY:Talaqpo
DESCRIPTION:Originální hudba kvartetu Talaqpo se pohybuje na pomezí worl
 d music\, jazzu a soudobé hudby. Poslední album Totribes odkazuje na lid
 ovou a klasickou hudbu indických států Orissa a Tamilnadu. Jejich nyně
 jší tvorba čerpá z cest po východní Africe a ze setkání s místní
 mi kmenovými komunitami v Ugandě\, Tanzánii a Zambii. Inspirují se nej
 en odposlouchanými rytmy a melodiemi\, ale také terénními nahrávkami\
 , rurálním prostředím a nasbíranými příběhy. V kolektivní tvorb
 ě dávají prostor volné improvizaci i promyšleným aranžím\, zejmén
 a pak individuálním pojetím jednotlivých hráčů\, jejichž různorod
 ý background rozkročený od jazzu\, rocku\, ambientu\, klasické i exper
 imentální hudby až po alternativu nachází v kvartetu vyváženou syne
 rgii. Speciálním hostem tohoto koncertu bude kontrabasista Luan Gonça
 lves.\n\nLucie Páchová - zpěv\nMilan Jakeš -  housle\nŠimon Marek - 
 violoncello\nJan Chalupa - bicí\nhost: Luan Gonçalves - kontrabas\n\nOd
 kaz na album totribes: https://talaqpototribe.bandcamp.com\nOdkaz na str
 ánky: https://talaqpo.wordpress.com/\n\nVstupné dobrovolné. Místenka 
 180 Kč.
ATTACH;FMTTYPE=image/jpeg:https://ponava.cafe/wp-content/uploads/2017/06/t
 apeta.jpg
CATEGORIES:Koncert
END:VEVENT
BEGIN:VTIMEZONE
TZID:Europe/Prague
X-LIC-LOCATION:Europe/Prague
BEGIN:DAYLIGHT
DTSTART:20200329T030000
TZOFFSETFROM:+0100
TZOFFSETTO:+0200
TZNAME:CEST
END:DAYLIGHT
END:VTIMEZONE
END:VCALENDAR