BEGIN:VCALENDAR
VERSION:2.0
PRODID:-//wp-events-plugin.com//7.2.3.1//EN
TZID:Europe/Prague
X-WR-TIMEZONE:Europe/Prague
BEGIN:VEVENT
UID:453@ponava.cafe
DTSTART;TZID=Europe/Prague:20210705T190000
DTEND;TZID=Europe/Prague:20210705T220000
DTSTAMP:20210731T120317Z
URL:https://ponava.cafe/udalosti/swingova-tancirna-s-vincenc-kummer-and-fr
 iends/
SUMMARY:Swingová tančírna s Vincenc Kummer and Friends
DESCRIPTION:Většinu swingových tančíren v Brně hraje nejmladší gene
 race místních jazzmenů. Ti ale stojí na ramenou velikánů tohoto žá
 nru - Brno je totiž městem jazzu už téměř sto let.\n\nPřijďte si z
 atancovat na jazzové matadory v čele s kontrabasistou Vincencem Kummerem
  a saxofonistou Radkem Zapadlem.\n\nVstupné dobrovolné\, zážitky k nez
 aplacení...
ATTACH;FMTTYPE=image/jpeg:https://ponava.cafe/wp-content/uploads/2021/07/I
 MG_6230-scaled-e1627732739970.jpg
CATEGORIES:Tančírna
END:VEVENT
BEGIN:VTIMEZONE
TZID:Europe/Prague
X-LIC-LOCATION:Europe/Prague
BEGIN:DAYLIGHT
DTSTART:20210328T030000
TZOFFSETFROM:+0100
TZOFFSETTO:+0200
TZNAME:CEST
END:DAYLIGHT
END:VTIMEZONE
END:VCALENDAR