BEGIN:VCALENDAR
VERSION:2.0
PRODID:-//wp-events-plugin.com//7.2.3.1//EN
TZID:Europe/Prague
X-WR-TIMEZONE:Europe/Prague
BEGIN:VEVENT
UID:133@ponava.cafe
DTSTART;TZID=Europe/Prague:20180620T190000
DTEND;TZID=Europe/Prague:20180620T190000
DTSTAMP:20180614T082359Z
URL:https://ponava.cafe/udalosti/swing-pod-sirym-nebem-v-ponave/
SUMMARY:Swing pod širým nebem v Ponavě
DESCRIPTION:Zatančit si pod širým nebem v Lužánkách? To je ten správ
 ný způsob\, jak se rozloučit s jarem a přivítat léto!\nS nadšením 
 vás všechny zveme na první swingovou tančírnu v Ponavě. Tento posled
 ní jarní večer se parkem ponese živá hudba\, která rozechvěje korun
 y stromů a roztančí vaše střevíce. Tak neváhejte a přijďte si zat
 ančit!\n\nJanek Čarek - kytara\, zpěv\n\nVojta Drnek - akordeon\n\nMich
 al Cálik - trumpeta\n\nŠtěpán Žák - kontrabas
ATTACH;FMTTYPE=image/jpeg:https://ponava.cafe/wp-content/uploads/2017/06/t
 apeta.jpg
CATEGORIES:Tančírna
END:VEVENT
BEGIN:VTIMEZONE
TZID:Europe/Prague
X-LIC-LOCATION:Europe/Prague
BEGIN:DAYLIGHT
DTSTART:20180325T030000
TZOFFSETFROM:+0100
TZOFFSETTO:+0200
TZNAME:CEST
END:DAYLIGHT
END:VTIMEZONE
END:VCALENDAR