BEGIN:VCALENDAR
VERSION:2.0
PRODID:-//wp-events-plugin.com//7.2.3.1//EN
TZID:Europe/Prague
X-WR-TIMEZONE:Europe/Prague
BEGIN:VEVENT
UID:149@ponava.cafe
DTSTART;TZID=Europe/Prague:20180615T210000
DTEND;TZID=Europe/Prague:20180615T210000
DTSTAMP:20180613T085006Z
URL:https://ponava.cafe/udalosti/swing-pigs-2/
SUMMARY:Swing Pigs
DESCRIPTION:Swing Pigs aneb deset psychotropních strún vibrujících v ry
 tmu potentní sexuální energie útočících na ty nejskrytější anim
 ální pudy posluchačů. Srdcervoucí housle Alexeye Aslamase v dialogu s
 e štěkající kytarou Samuela Pauča vždy v jedinečné konstalaci. Hud
 ební performance plná improvizace mísící nejrůznější hudební vli
 vy a žánry. Klasika\, Swing\, Blues\, Soul\, Jazz a folklór v nevyzpyta
 telné postprodukci slovanského dua. Destilovaný ruský a slovenský tem
 perament v té nejčiřejší podobě. Nazdraví!
ATTACH;FMTTYPE=image/jpeg:https://ponava.cafe/wp-content/uploads/2017/06/t
 apeta.jpg
CATEGORIES:Koncert
END:VEVENT
BEGIN:VTIMEZONE
TZID:Europe/Prague
X-LIC-LOCATION:Europe/Prague
BEGIN:DAYLIGHT
DTSTART:20180325T030000
TZOFFSETFROM:+0100
TZOFFSETTO:+0200
TZNAME:CEST
END:DAYLIGHT
END:VTIMEZONE
END:VCALENDAR