BEGIN:VCALENDAR
VERSION:2.0
PRODID:-//wp-events-plugin.com//7.2.3.1//EN
TZID:Europe/Prague
X-WR-TIMEZONE:Europe/Prague
BEGIN:VEVENT
UID:156@ponava.cafe
DTSTART;TZID=Europe/Prague:20180829T190000
DTEND;TZID=Europe/Prague:20180829T190000
DTSTAMP:20180810T212138Z
URL:https://ponava.cafe/udalosti/swing-2/
SUMMARY:Swing pod širým nebem v Ponavě // Petra Borovičková TRIO
DESCRIPTION:Léto se nám pomalu chýlí ke konci a s ním i teplé letní 
 večery. Proto si pro vás Ponava a Swing Wings Brno připravili ještě d
 alší tančírnu. Přijďte do Lužánek ukončit léto v rytmu swingu.\n
 \nK poslechu a k tanci vám zahraje Petra Borovičková TRIO.\n\n
ATTACH;FMTTYPE=image/jpeg:https://ponava.cafe/wp-content/uploads/2017/06/t
 apeta.jpg
CATEGORIES:Tančírna
END:VEVENT
BEGIN:VTIMEZONE
TZID:Europe/Prague
X-LIC-LOCATION:Europe/Prague
BEGIN:DAYLIGHT
DTSTART:20180325T030000
TZOFFSETFROM:+0100
TZOFFSETTO:+0200
TZNAME:CEST
END:DAYLIGHT
END:VTIMEZONE
END:VCALENDAR