BEGIN:VCALENDAR
VERSION:2.0
PRODID:-//wp-events-plugin.com//7.2.3.1//EN
TZID:Europe/Prague
X-WR-TIMEZONE:Europe/Prague
BEGIN:VEVENT
UID:265@ponava.cafe
DTSTART;TZID=Europe/Prague:20190616T170000
DTEND;TZID=Europe/Prague:20190616T170000
DTSTAMP:20190528T131317Z
URL:https://ponava.cafe/udalosti/summer-sundaze/
SUMMARY:Summer Sundaze
DESCRIPTION:We are having a big summer party with loads of bands who are li
 ke your favourite bands but a bit better.\n\nAre you coming? You might mee
 t the love of your life.\n\nFEATURING:\n- Ant Attack (acoustic greatest hi
 ts)\n- Voodoo Recipe (ACO.BLU.RHY: acoustic\, blues and rhymes)\n- Eclecti
 c Cinema (synth-pop duo)\n- Šnyts For Daddy (electro/punk/funk)\n- Janaki
  (dream pop/acoustic singer guitarist)\n\n
ATTACH;FMTTYPE=image/jpeg:https://ponava.cafe/wp-content/uploads/2017/06/t
 apeta.jpg
CATEGORIES:Koncert
END:VEVENT
BEGIN:VTIMEZONE
TZID:Europe/Prague
X-LIC-LOCATION:Europe/Prague
BEGIN:DAYLIGHT
DTSTART:20190331T030000
TZOFFSETFROM:+0100
TZOFFSETTO:+0200
TZNAME:CEST
END:DAYLIGHT
END:VTIMEZONE
END:VCALENDAR