BEGIN:VCALENDAR
VERSION:2.0
PRODID:-//wp-events-plugin.com//7.2.3.1//EN
TZID:Europe/Prague
X-WR-TIMEZONE:Europe/Prague
BEGIN:VEVENT
UID:254@ponava.cafe
DTSTART;TZID=Europe/Prague:20190607T190000
DTEND;TZID=Europe/Prague:20190607T190000
DTSTAMP:20190513T140557Z
URL:https://ponava.cafe/udalosti/stryci-ze-strani/
SUMMARY:Strýci ze Strání
DESCRIPTION:Cimbálová muzika Strýci ze Strání byla založena v roce 19
 78. Na postu primáše se střídají Václav Málek\, Josef Bruštík a A
 ntonín Bruštík\, který je také pěveckým sólistou\, organizačním 
 vedoucím je Radek Bruštík. Repertoár muziky je pevně spojen s folklor
 ními tradicemi obce Strání a taky okolními regiony Moravských Kopanic
 \, Dolňácka\, Horňácka či sousedních Slovenských Kopanic a Myjavy. 
 Muzika pomáhá při rozvíjení a udržování lidových tradic regionu\,
  kde účinkuje na hodových\, velikonočních\, mikulášských či ště
 pánských besedách u cimbálu. Strýci ze Strání jsou významnými pro
 tagonisty známého Fašankového festivalu ve Strání. Po celou dobu či
 nnosti spolupracují s místním folklorním tanečním souborem Javorina\
 , se kterým se reprezentují na folklorních festivalech v tuzemsku i zah
 raničí. Nelze opomenout vzájemnou spolupráci s dětskými soubory Stra
 ňánek a Javorinka\, ve kterých je mnoho nadaných muzikantů\, zpěvák
 ů a tanečníků.\n\n\n\n.                       
                                      
        Vstupné dobrovolné\, zážitky k nezaplacení :)
ATTACH;FMTTYPE=image/jpeg:https://ponava.cafe/wp-content/uploads/2017/06/t
 apeta.jpg
CATEGORIES:Koncert
END:VEVENT
BEGIN:VTIMEZONE
TZID:Europe/Prague
X-LIC-LOCATION:Europe/Prague
BEGIN:DAYLIGHT
DTSTART:20190331T030000
TZOFFSETFROM:+0100
TZOFFSETTO:+0200
TZNAME:CEST
END:DAYLIGHT
END:VTIMEZONE
END:VCALENDAR