BEGIN:VCALENDAR
VERSION:2.0
PRODID:-//wp-events-plugin.com//7.2.3.1//EN
TZID:Europe/Prague
X-WR-TIMEZONE:Europe/Prague
BEGIN:VEVENT
UID:228@ponava.cafe
DTSTART;TZID=Europe/Prague:20190315T200000
DTEND;TZID=Europe/Prague:20190315T230000
DTSTAMP:20190206T160212Z
URL:https://ponava.cafe/udalosti/stompin-dog-honey-banjos/
SUMMARY:Stompin' Dog + Honey Banjos
DESCRIPTION:V pátek se u nás představí Stompin' Dog - blues-rockové du
 o v složení Jan Minarčík/kytara Miloš Kocman/foukací harmonika a jej
 ich hudební hosté Honey Banjos! \n\nJan Minarčík a Miloš Kocman na je
 dné lodi s Elmore Jamesem\, Morissonem\, Hendrixem\, Stevie Wonderem\, Be
 atles\, Rolling Stones\, The Doors\, Steppenwolf... Hudební duo plující
  tichou řekou\, která je místy zběsile divoká. Kytara\, zpěv\, fouka
 cí harmonika a bouchání do staré bedny jako návrat ke kořenům blues
  a syrovému zvuku chatrče.\n\nVstupné dobrovolné\, zážitky k nezapla
 cení :)\n\n
ATTACH;FMTTYPE=image/jpeg:https://ponava.cafe/wp-content/uploads/2017/06/t
 apeta.jpg
CATEGORIES:Koncert
END:VEVENT
BEGIN:VTIMEZONE
TZID:Europe/Prague
X-LIC-LOCATION:Europe/Prague
BEGIN:STANDARD
DTSTART:20181028T020000
TZOFFSETFROM:+0200
TZOFFSETTO:+0100
TZNAME:CET
END:STANDARD
END:VTIMEZONE
END:VCALENDAR