BEGIN:VCALENDAR
VERSION:2.0
PRODID:-//wp-events-plugin.com//7.2.3.1//EN
TZID:Europe/Prague
X-WR-TIMEZONE:Europe/Prague
BEGIN:VEVENT
UID:242@ponava.cafe
DTSTART;TZID=Europe/Prague:20190407T180000
DTEND;TZID=Europe/Prague:20190407T180000
DTSTAMP:20190313T190203Z
URL:https://ponava.cafe/udalosti/stepan-kuchlei/
SUMMARY:Štěpán Kuchlei
DESCRIPTION:Tenhle večer věnujeme autorskému čtení z právě vydané k
 nihy kambodžských pohádek Štěpána Kuchleie "Země čtyř vůní" a j
 eho další připravované knihy kambodžských buddhistických příběh
 ů.\n\nŠtěpán Kuchlei je antropolog a folklorista\, vysokoškolský lek
 tor\, básník\, spisovatel\, dramatik\, aforista\, překladatel\, herec\,
  recitátor\, cestovatel…\n\nTéž si vydělával na živobytí jako pro
 davač\, skladník\, pomocná síla v restauraci\, číšník\, přidavač
  na stavbách\, dělník v mnoha různých továrnách\, pastevec koz\, ma
 líř pokojů\, stěhovák\, zahradník\, uklízeč\, vychovatel\, kompars
  v televizním seriálu\, učitel na základní i střední škole\, rozna
 šeč letáků\, spoluorganizátor sportovních závodů\, bedňák\, kop
 áč\, lesník a manažer neziskové organizace…\n\nV letech 2007 až 20
 09 žil a studoval v severním Walesu\, v letech 2009 až 2010 přednáše
 l Kulturní antropologii a Dějiny umění na univerzitě v Phnom Penhu\, 
 v Kambodži.\n\nUkázka z knihy: „Temné hvězdy\, to je mi divné\,“ 
 pomyslel si Ratanak\, a náhle si všiml\, jak se zrníčka nebeské rýž
 e hýbou – není to rýže\, ale červi! Ratanak náhle držel misku s v
 odou ve svých dlaních – voda byla plná živ‎ých mravenců. Lovec m
 ěl však žízeň\, proto celou misku z kokosového ořechu vypil naráz.
  Tekutina byla dobrá\, jako úsměv nejbližších\, a chladivá\, ale Ra
 tanak cítil\, jak mu mravenci běhají v těle\, zmatení\, ale pilní a 
 nezastaví ani na chviličku\, v konečcích svých prstů\, i v hrudi i v
  hlavě je Ratanak cítil."\n\n\n\n&nbsp\;\n\n.             
                                      
                                    Vstup
 né dobrovolné\, zážitky k nezaplacení :)
ATTACH;FMTTYPE=image/jpeg:https://ponava.cafe/wp-content/uploads/2017/06/t
 apeta.jpg
CATEGORIES:Autorské čtení
END:VEVENT
BEGIN:VTIMEZONE
TZID:Europe/Prague
X-LIC-LOCATION:Europe/Prague
BEGIN:DAYLIGHT
DTSTART:20190331T030000
TZOFFSETFROM:+0100
TZOFFSETTO:+0200
TZNAME:CEST
END:DAYLIGHT
END:VTIMEZONE
END:VCALENDAR