BEGIN:VCALENDAR
VERSION:2.0
PRODID:-//wp-events-plugin.com//7.2.3.1//EN
TZID:Europe/Prague
X-WR-TIMEZONE:Europe/Prague
BEGIN:VEVENT
UID:113@ponava.cafe
DTSTART;TZID=Europe/Prague:20180417T190000
DTEND;TZID=Europe/Prague:20180417T190000
DTSTAMP:20180406T113519Z
URL:https://ponava.cafe/udalosti/stefan-szabo/
SUMMARY:Szabó / Turcerová / Maceček
DESCRIPTION:Štefan Szabó - gitara\nMichaela Turcerová - alt a soprán sa
 xofón\nPeter Maceček - bicie\n\nMladé trio zložené z dvoch študentov
  Janáčkovej akadémie muzických umení v Brne a študentky magisterské
 ho štúdia saxofónu Akadémie umenia v Banskej Bystrici. Trio prezentuje
  vlastné kompozície\, osobité aranžmány jazzových štandardov a takt
 iež tvorbu súčasných autorov. Ich hra je veľmi komunikatívna\, fareb
 ná a podstatnú časť hry tvoria improvizácie.\n\n
ATTACH;FMTTYPE=image/jpeg:https://ponava.cafe/wp-content/uploads/2017/06/t
 apeta.jpg
CATEGORIES:Koncert
END:VEVENT
BEGIN:VTIMEZONE
TZID:Europe/Prague
X-LIC-LOCATION:Europe/Prague
BEGIN:DAYLIGHT
DTSTART:20180325T030000
TZOFFSETFROM:+0100
TZOFFSETTO:+0200
TZNAME:CEST
END:DAYLIGHT
END:VTIMEZONE
END:VCALENDAR