BEGIN:VCALENDAR
VERSION:2.0
PRODID:-//wp-events-plugin.com//7.2.3.1//EN
TZID:Europe/Prague
X-WR-TIMEZONE:Europe/Prague
BEGIN:VEVENT
UID:236@ponava.cafe
DTSTART;TZID=Europe/Prague:20190403T200000
DTEND;TZID=Europe/Prague:20190403T200000
DTSTAMP:20190307T100541Z
URL:https://ponava.cafe/udalosti/stefan-szabo-trio/
SUMMARY:Štefan Szabó Trio
DESCRIPTION:První dubnovou středu se můžete těšit na svěží\, mlad
 é trio ze Slovenska ve složení Michaela Turčeková/saxofon (HAMU-Praha
 ) Štefan Szabó/kytara (JAMU-Brno) Petr Maceček/bicí (JAMU-Brno). Jejic
 h repertoár se skládá převažně z originálních kompozic každého 
 člena tria\, mimo jiné i z unikátních aranžmá jazzových standardů 
 a skladeb současných skladatelů. Typickým prvkem jejich vystoupení je
  směs meditativních melodií podbarvených dávkou improvizace. V listop
 adu 2018 se trio zúčastnilo na mezinárodním festivalu Krokus Jazz Fest
  v Polsku\, kde saxofonistka Michaela Turčeková vyhrála speciální oce
 nění za solo performance.\n\nVstupné dobrovolné\, zážitky k nezaplac
 ení :)\n\n
ATTACH;FMTTYPE=image/jpeg:https://ponava.cafe/wp-content/uploads/2017/06/t
 apeta.jpg
CATEGORIES:Koncert
END:VEVENT
BEGIN:VTIMEZONE
TZID:Europe/Prague
X-LIC-LOCATION:Europe/Prague
BEGIN:DAYLIGHT
DTSTART:20190331T030000
TZOFFSETFROM:+0100
TZOFFSETTO:+0200
TZNAME:CEST
END:DAYLIGHT
END:VTIMEZONE
END:VCALENDAR