BEGIN:VCALENDAR
VERSION:2.0
PRODID:-//wp-events-plugin.com//7.2.3.1//EN
TZID:Europe/Prague
X-WR-TIMEZONE:Europe/Prague
BEGIN:VEVENT
UID:260@ponava.cafe
DTSTART;TZID=Europe/Prague:20190501T190000
DTEND;TZID=Europe/Prague:20190501T190000
DTSTAMP:20190428T201006Z
URL:https://ponava.cafe/udalosti/stefan-szabo-josef-hanulik/
SUMMARY:Štefan Szabó & Josef Hanulík
DESCRIPTION:Kytarové duo\, které originálně interpretuje jazzové stand
 ardy.\n\nVstupné dobrovolné\, zážitky k nezaplacení 🙂
ATTACH;FMTTYPE=image/jpeg:https://ponava.cafe/wp-content/uploads/2017/06/t
 apeta.jpg
CATEGORIES:Koncert
END:VEVENT
BEGIN:VTIMEZONE
TZID:Europe/Prague
X-LIC-LOCATION:Europe/Prague
BEGIN:DAYLIGHT
DTSTART:20190331T030000
TZOFFSETFROM:+0100
TZOFFSETTO:+0200
TZNAME:CEST
END:DAYLIGHT
END:VTIMEZONE
END:VCALENDAR