BEGIN:VCALENDAR
VERSION:2.0
PRODID:-//wp-events-plugin.com//7.2.3.1//EN
TZID:Europe/Prague
X-WR-TIMEZONE:Europe/Prague
BEGIN:VEVENT
UID:97@ponava.cafe
DTSTART;TZID=Europe/Prague:20180225T180000
DTEND;TZID=Europe/Prague:20180225T180000
DTSTAMP:20180130T153313Z
URL:https://ponava.cafe/udalosti/stastne-rakousko/
SUMMARY:Šťastné Rakousko
DESCRIPTION:Uvedení románu Felix Austria současné významné ukrajinsk
 é autorky Sofije Andruchovyčové. Knihu představí její překladatel P
 etr Kalina a zástupci nakladatelství Větrné Mlýny.\n\nStanislavovo na
  počátku dvacátého století\, městečko na Halyčině\, v samém srdc
 i nejchudšíhoa nejzanedbanějšího regionu c. a k. mocnářství.\nSofi
 ja Andruchovyč\, stále zářivější hvězda ukrajinského literárníh
 o nebe\, svůj magický román Felix Austria zalidnila všedně nevšední
 mi postavami a postavičkami\, jejichž životy plynou a rozplývají se n
 a pozadí epochy\, která jejich potomkům stále více obrůstá mýtem o
  šťastném Rakousku. Tajemství ukrytá ve vyřezávaných komodách\, i
 luzionisté\, šarlatáni\, zázraky vědy\, láska a smrt. Autorka vystř
 ihla dech beroucí rodinnou ságu klenoucí oblouk mezi minulostí\, pří
 tomností i budoucností. Ohledává ulice svého rodného města\, dotýk
 á se přitom nejméně poloviny Evropy a těch nejnapjatějších strun n
 aší fantazie. „Je dobré zkoumat tu část historie\, které\nse možn
 á bojíme\, protože je neprobádaná. Někde tam jsou otázky\, ke kter
 ým máme hledat odpovědi\,“ říká autorka.\nSofija Andruchovyčová 
 (* 17. listopadu 1982\, Ivano-Frankivsk\, Ukrajina) je ukrajinská spisova
 telka\, překladatelka z polštiny do ukrajinštiny a publicistka. Narodil
 a se 17. listopadu 1982 v Ivano-Frankivsku. Je dcerou známého ukrajinsk
 ého spisovatele Jurije Andruchovyče. Jejím manželem je ukrajinský bá
 sník a publicista Andrij Bondar. Napsala několik knih prózy\, mezi nimi
  Losos (2007) a dosud poslední Felix Austria (2014). Je spoluredaktorkou 
 časopisu Четвер (Čtvrtek). Často publikuje v denním tisku. V roc
 e 2015 byla hostem Měsíce autorského čtení. Ve stejném roce byl s au
 torem natočen portrét pro cyklus Ukrajinská čítanka - Ukrajina\, dava
 j\, Ukrajiny\, který vznikl v koprodukci nakladatelství Větrné mlýny 
 a tří veřejnoprávních televizí z Česka (ČT)\, Polska (TVP) a Slove
 nska (RTVS). Režisérem dílu je Pavel Řehořík.\nŽije v Kyjevě. 10. 
 března 2008 se jí narodila dcera Varvara.\n\n
ATTACH;FMTTYPE=image/jpeg:https://ponava.cafe/wp-content/uploads/2017/06/t
 apeta.jpg
CATEGORIES:Autorské čtení
END:VEVENT
BEGIN:VTIMEZONE
TZID:Europe/Prague
X-LIC-LOCATION:Europe/Prague
BEGIN:STANDARD
DTSTART:20171029T020000
TZOFFSETFROM:+0200
TZOFFSETTO:+0100
TZNAME:CET
END:STANDARD
END:VTIMEZONE
END:VCALENDAR