BEGIN:VCALENDAR
VERSION:2.0
PRODID:-//wp-events-plugin.com//7.2.3.1//EN
TZID:Europe/Prague
X-WR-TIMEZONE:Europe/Prague
BEGIN:VEVENT
UID:67@ponava.cafe
DTSTART;TZID=Europe/Prague:20171115T203000
DTEND;TZID=Europe/Prague:20171115T203000
DTSTAMP:20171025T133227Z
URL:https://ponava.cafe/udalosti/snookers-63-rnr/
SUMMARY:Snookers 63 R´n´R
DESCRIPTION:Dřevní RnR.\n\nArnošt piano a Jiří saxofon spolu dělaji n
 eplechu od roku 1979\, Arnošt pak hrál se 100 zvířaty\, Jiří s Gara
 ží a Psíma vojakama. Basák Pavel není pražák a hraje s Urbandem.\n"
 RnR se nedá poslouchat. Buď ho hraju nebo tančím. " j.j.\n
ATTACH;FMTTYPE=image/jpeg:https://ponava.cafe/wp-content/uploads/2017/06/t
 apeta.jpg
CATEGORIES:Koncert
END:VEVENT
BEGIN:VTIMEZONE
TZID:Europe/Prague
X-LIC-LOCATION:Europe/Prague
BEGIN:STANDARD
DTSTART:20171029T020000
TZOFFSETFROM:+0200
TZOFFSETTO:+0100
TZNAME:CET
END:STANDARD
END:VTIMEZONE
END:VCALENDAR