BEGIN:VCALENDAR
VERSION:2.0
PRODID:-//wp-events-plugin.com//7.2.3.1//EN
TZID:Europe/Prague
X-WR-TIMEZONE:Europe/Prague
BEGIN:VEVENT
UID:124@ponava.cafe
DTSTART;TZID=Europe/Prague:20180529T190000
DTEND;TZID=Europe/Prague:20180529T190000
DTSTAMP:20180521T063328Z
URL:https://ponava.cafe/udalosti/simone-sablone-street/
SUMMARY:Simone Sablone: Street
DESCRIPTION:Vernisáž výstavy fotografií Simone Sablone\n\nVýběr čern
 obílých snímků mladé fotografky česko-italského původu. Simone se 
 dívá dnem i nocí kolem sebe a zachycuje rozličné momenty nočního m
 ěsta a života jeho obyvatel.\n\nSimone Sablone *1993\n2009-2012 - Biskup
 ské Gymnázium v Brně\n\nhttps://instagram.com/silent.brunet\n\nVýstava
  potrvá do 25. června 2018.\n\nHudba: Andrea Šimordová\nKurátor: Jan 
 Karpíšek
ATTACH;FMTTYPE=image/jpeg:https://ponava.cafe/wp-content/uploads/2017/06/t
 apeta.jpg
CATEGORIES:Výstava
END:VEVENT
BEGIN:VTIMEZONE
TZID:Europe/Prague
X-LIC-LOCATION:Europe/Prague
BEGIN:DAYLIGHT
DTSTART:20180325T030000
TZOFFSETFROM:+0100
TZOFFSETTO:+0200
TZNAME:CEST
END:DAYLIGHT
END:VTIMEZONE
END:VCALENDAR