BEGIN:VCALENDAR
VERSION:2.0
PRODID:-//wp-events-plugin.com//7.2.3.1//EN
TZID:Europe/Prague
X-WR-TIMEZONE:Europe/Prague
BEGIN:VEVENT
UID:712@ponava.cafe
DTSTART;TZID=Europe/Prague:20231027T200000
DTEND;TZID=Europe/Prague:20231027T234500
DTSTAMP:20230927T095342Z
URL:https://ponava.cafe/udalosti/simon-kolecek/
SUMMARY:Šimon Koleček
DESCRIPTION:Š I M O N K O L E Č E K - L I M E N E\nAmbient indie pop s pr
 vky lo-fi a jazzu. Za pomocí kytary\, zpěvu a live-loopingu na klávesá
 ch vytváří ústecký hudebník snové melodie\, které doprovázejí te
 xty o nalezení krásy ve všedním okamžiku\, o smutku ze ztráty a o ra
 dosti ze začátku něčeho nového. O indoor raftingu ve vytopeném bytě
  nebo o růstu a opadaném citrusovém listí.\nvstupné dobrovolné - zá
 žitky k nezaplacení
ATTACH;FMTTYPE=image/jpeg:https://ponava.cafe/wp-content/uploads/2023/09/K
 olecek_Header.jpg
CATEGORIES:Koncert
END:VEVENT
BEGIN:VTIMEZONE
TZID:Europe/Prague
X-LIC-LOCATION:Europe/Prague
BEGIN:DAYLIGHT
DTSTART:20230326T030000
TZOFFSETFROM:+0100
TZOFFSETTO:+0200
TZNAME:CEST
END:DAYLIGHT
END:VTIMEZONE
END:VCALENDAR