BEGIN:VCALENDAR
VERSION:2.0
PRODID:-//wp-events-plugin.com//7.2.3.1//EN
TZID:Europe/Prague
X-WR-TIMEZONE:Europe/Prague
BEGIN:VEVENT
UID:232@ponava.cafe
DTSTART;TZID=Europe/Prague:20190320T200000
DTEND;TZID=Europe/Prague:20190320T220000
DTSTAMP:20190213T163630Z
URL:https://ponava.cafe/udalosti/sbor-hudby/
SUMMARY:Sbor hudby
DESCRIPTION:Petr "Karkul" Randula/ koncepce\, klávesy\, zpěv\, animace\nV
 áclav "Váša" Košťál/ housle\, zpěv\n\nSbor hudby realizuje vlastní
  experimentální skladby bez přesného stylového zaměření. Navazuje 
 na tradici alternativních a underground kapel z regionu Valašska a Brna.
  Sbor hudby vznikl v roce 1983\, vystupoval na Valných hromadách (koncer
 ty brněnského alternativní hnutí) v Brně a Praze a soukromých „uta
 jených“ akcích ve Val Mezu a Havířově. Existoval rok. V roce 2015 d
 va původní členové obnovili činnost. Nyní Sbor hudby hraje pořad Na
  stolku v herně a Očistec. Nové skladby jsou od under (Příběh Sboru 
 hudby) po moderní vážnou hudbu (Myšlení stroje\, Fanfáry proti strac
 hu). Společným jmenovatelem skladeb je aplikování minimal a elektronic
 kých postupů.\n\nOba hudebníci působili v řadě alter-under kapel a h
 udebních směrů (Třírychlostní Pepíček\, Ještě jsme se nedohodli\
 , Minimálním orchestr\, Betula Pendula\, Rytmická mládež\, Slepé st
 řevo/Rytmus84). Na platformě Sboru hudby vytváříme křížovatky hude
 bně-vizuálních technologií a hudebně spřízněných duší.\n\n\n  
        
ATTACH;FMTTYPE=image/jpeg:https://ponava.cafe/wp-content/uploads/2017/06/t
 apeta.jpg
CATEGORIES:Koncert
END:VEVENT
BEGIN:VTIMEZONE
TZID:Europe/Prague
X-LIC-LOCATION:Europe/Prague
BEGIN:STANDARD
DTSTART:20181028T020000
TZOFFSETFROM:+0200
TZOFFSETTO:+0100
TZNAME:CET
END:STANDARD
END:VTIMEZONE
END:VCALENDAR