BEGIN:VCALENDAR
VERSION:2.0
PRODID:-//wp-events-plugin.com//7.2.3.1//EN
TZID:Europe/Prague
X-WR-TIMEZONE:Europe/Prague
BEGIN:VEVENT
UID:76@ponava.cafe
DTSTART;TZID=Europe/Prague:20180214T190000
DTEND;TZID=Europe/Prague:20180214T190000
DTSTAMP:20180122T092759Z
URL:https://ponava.cafe/udalosti/robert-balzar-trio/
SUMMARY:Robert Balzar Trio
DESCRIPTION:Výjimečný koncert předních českých jazzmanů v Ponavě.\
 n\nRobert Balzar trio netřeba dlouze představovat. Tři ostřílení muz
 ikanti\, známí např. spoluprací s Danem Bártou. Vlastní skladby i ja
 zzové standardy v neotřelých aranžích a kvalitní interpretaci\, kter
 á baví posluchače po celém světě.\n\nRobert Balzar - kontrabas\nJiř
 í Levíček - piano\nKamil Slezák - bicí\n\n
ATTACH;FMTTYPE=image/jpeg:https://ponava.cafe/wp-content/uploads/2017/06/t
 apeta.jpg
CATEGORIES:Koncert
END:VEVENT
BEGIN:VTIMEZONE
TZID:Europe/Prague
X-LIC-LOCATION:Europe/Prague
BEGIN:STANDARD
DTSTART:20171029T020000
TZOFFSETFROM:+0200
TZOFFSETTO:+0100
TZNAME:CET
END:STANDARD
END:VTIMEZONE
END:VCALENDAR