BEGIN:VCALENDAR
VERSION:2.0
PRODID:-//wp-events-plugin.com//7.2.3.1//EN
TZID:Europe/Prague
X-WR-TIMEZONE:Europe/Prague
BEGIN:VEVENT
UID:144@ponava.cafe
DTSTART;TZID=Europe/Prague:20180628T180000
DTEND;TZID=Europe/Prague:20180628T180000
DTSTAMP:20180614T102405Z
URL:https://ponava.cafe/udalosti/remember-trio-party/
SUMMARY:Remember Trio Party
DESCRIPTION:Přijďte vzpomenout na bar Trio\, za výčepem pan Dadak a za 
 nástroji jeho "chovanci" z Konzervatoře Brno.
ATTACH;FMTTYPE=image/jpeg:https://ponava.cafe/wp-content/uploads/2017/06/t
 apeta.jpg
CATEGORIES:Koncert
END:VEVENT
BEGIN:VTIMEZONE
TZID:Europe/Prague
X-LIC-LOCATION:Europe/Prague
BEGIN:DAYLIGHT
DTSTART:20180325T030000
TZOFFSETFROM:+0100
TZOFFSETTO:+0200
TZNAME:CEST
END:DAYLIGHT
END:VTIMEZONE
END:VCALENDAR