BEGIN:VCALENDAR
VERSION:2.0
PRODID:-//wp-events-plugin.com//7.2.3.1//EN
TZID:Europe/Prague
X-WR-TIMEZONE:Europe/Prague
BEGIN:VEVENT
UID:96@ponava.cafe
DTSTART;TZID=Europe/Prague:20180211T190000
DTEND;TZID=Europe/Prague:20180211T190000
DTSTAMP:20180130T153049Z
URL:https://ponava.cafe/udalosti/remember-karel-kryl/
SUMMARY:Remember - Karel Kryl
DESCRIPTION:Hudebně text-appealová koláž z hitů Karla Kryla v podání
  hudební dvojice\nPavel Foltán &amp\; Petr „Bubák“ Bublák.\n\nHude
 bně text-appealová koláž z hitů Karla Kryla s použitím stále ješt
 ě (anebo stále více?) aktuálních\, unikátních\, až do vzniku tohot
 o pořadu (čili tehdy ještě) jinak nezveřejněných informací\, eseji
 stických úvah\, fejetonů\, glos a poznámek\, i fragmentů z osobní ko
 respondence Karla Kryla s Pavlem Foltánem z let 1992 až 1994.\n\nScéná
 ř pořadu „Remember Karel Kryl“ napsal Pavel Foltán v roce 1995 a kr
 átce na to měl pořad premiéru v Brně. V dalších letech byl pořad 
 úspěšně reprizován v řadě klubů\, ale i na řadě divadelních sc
 én (většinou těch komornějších\, resp. těch skutečně avantgardn
 ích) v celé České republice. Aktualizovaná upgrade 3. verze pořadu j
 e tedy svým způsobem z gruntu obnovenou premiérou zhruba po dvaceti let
 ech\, ale v aktuální soudobé podobě s inovací aranžmá\, což posíl
 ilo jak hudební feeling\, tak i dramaturgický rozměr pořadu.\n\nTato n
 ová („volume 3“) verze pořadu „Remember Karel Kryl“ měla veřej
 nou před-premiéru 30. března 2016 v pražském klubu „U Božího mlý
 na“. A hned poté byla premiéra pořadu dne 1. dubna 2016 na Malé scé
 ně v Ústí nad Orlicí. A krátce poté tj. 12. dubna 2016 (což je výr
 očí narození Karla Kryla) zazněly některé songy z tohoto pořadu v p
 odání protagonistů také na (dnes už tradiční) street-music-party 
 „Zpívání u Karla“ v Praze na Letné\, před pamětní deskou Karla 
 Kryla\, kde si výročí Krylových narozenin každoročně připomínají
  Ivan Hlas\, Wabi Daněk\, Petar Introvič\, Foltán &amp\; Bubák\, Mirek
  Paleček\, i někteří další známí folkoví a blues-rockoví našinc
 i  a 5. ročník této akce v dubnu roku 2016 navštívila i manželka 
 Karla Kryla paní Marlene Krylová\, žijící v Bavorsku.\n\n
ATTACH;FMTTYPE=image/jpeg:https://ponava.cafe/wp-content/uploads/2017/06/t
 apeta.jpg
CATEGORIES:Koncert
END:VEVENT
BEGIN:VTIMEZONE
TZID:Europe/Prague
X-LIC-LOCATION:Europe/Prague
BEGIN:STANDARD
DTSTART:20171029T020000
TZOFFSETFROM:+0200
TZOFFSETTO:+0100
TZNAME:CET
END:STANDARD
END:VTIMEZONE
END:VCALENDAR