BEGIN:VCALENDAR
VERSION:2.0
PRODID:-//wp-events-plugin.com//7.2.3.1//EN
TZID:Europe/Prague
X-WR-TIMEZONE:Europe/Prague
BEGIN:VEVENT
UID:81@ponava.cafe
DTSTART;TZID=Europe/Prague:20171205T200000
DTEND;TZID=Europe/Prague:20171205T200000
DTSTAMP:20171204T221052Z
URL:https://ponava.cafe/udalosti/radost-ensemble/
SUMMARY:Radost Ensemble
DESCRIPTION:Propojení studentů JAMU z různých hudebních oborů a rozd
 ílných přístupů k improvizaci\, rytmu\, zvuku\, virtuozitě\n- hudebn
 í ansámbl vede Radim Hanousek a Martin Konvička\n- zdatní hudebníci s
 e mohou připojit - vemte nástroje
ATTACH;FMTTYPE=image/jpeg:https://ponava.cafe/wp-content/uploads/2017/06/t
 apeta.jpg
CATEGORIES:Koncert
END:VEVENT
BEGIN:VTIMEZONE
TZID:Europe/Prague
X-LIC-LOCATION:Europe/Prague
BEGIN:STANDARD
DTSTART:20171029T020000
TZOFFSETFROM:+0200
TZOFFSETTO:+0100
TZNAME:CET
END:STANDARD
END:VTIMEZONE
END:VCALENDAR