BEGIN:VCALENDAR
VERSION:2.0
PRODID:-//wp-events-plugin.com//7.2.3.1//EN
TZID:Europe/Prague
X-WR-TIMEZONE:Europe/Prague
BEGIN:VEVENT
UID:234@ponava.cafe
DTSTART;TZID=Europe/Prague:20190309T190000
DTEND;TZID=Europe/Prague:20190309T190000
DTSTAMP:20190305T140204Z
URL:https://ponava.cafe/udalosti/radim-dibdiak-erika-vlnena/
SUMMARY:Radim Dibdiak - Erika & Vlněna
DESCRIPTION:Vernisáž výstavy fotografií Radima Dibdiaka.\nFotografujíc
 í démon nočního života Štatlu a autor originálního grafického des
 ignu představí remix portrétů zářící star Eriky Stárkové a odstr
 aněné továrny Vlněna. Fotí od roku 2000 a to výhradně na digitál.\
 n\n"Nemám rád\, když se o někom tvrdí\, že je třeba “brněnský
 ”…. Radim Dibdiak ale brněnský svým způsobem je. Od počátku svoj
 í tvorby zachycuje nejen proměny města\, ale zejména tváří\, stavů
  a “momentů”\, které se dále v čase a v prostoru vyvíjí. To je p
 řirozené. Ovšem jak rádi pak sledujeme “svoji” minulost\, zachycen
 ou Radimem. Jakoby uběhla jen jedna noc\, nebo vteřina. Jeho fotografie 
 vždy zachytí atmosféru a ke všemu přidaný autorský rukopis\, který
  lze rozpoznat na jakémkoliv snímku.\nMám velice rád jeho ležérní d
 ržení fotoaparátu a jakési blik\, kdy si člověk v podvědomí řekne
 \, hm\, momentka z moře momentek. Ale tak to není. Autor udělá jen ně
 kolik snímků a nakonec je schopný vytvořit výstavu\, kdy na duši i o
 či dýchne z každé fotografie podívná nálada. A každého osloví ji
 nak\, což se podaří málokomu! Radim se svým způsobem se všemi děl
 í…\nJe příjemné být součástí jeho tvorby. Ale věřte\, že i be
 z možnosti zaznamenat situaci\, stav\, atmosféru\, prostě v momentě\, 
 kdy svůj fotoaparát nemá u sebe\, stojí za to vyslechnout\, poslechnou
 t\, nebo se klidně i v dobrém s ním přít. Ale upřímně - viděli js
 te někdy tohoto člověka bez svého “oka”\, co naplňuje nás všech
 ny a jeho určitě taky…\nRadim Dibdiak v současnosti dobře ví\, kam 
 směřují jeho fotografické kroky a je radost sledovat\, jak se právě 
 jemu v umělecké i lidské “výpovědi” daří!" (Richard Vetchý Wet
 cháč // Brno 2019)\n\nRadim Dibdiak *1983\, Kyjov \n\nStudia: 1999-2003 
 ISŠ Polygrafická\, Brno\n\nhttp://www.dibdiak.wz.cz\n\nVýstava potrvá 
 do 12. dubna 2019.\n\nHudba: Swing Pigs\nKurátor: Jan Karpíšek
ATTACH;FMTTYPE=image/jpeg:https://ponava.cafe/wp-content/uploads/2017/06/t
 apeta.jpg
CATEGORIES:Výstava
END:VEVENT
BEGIN:VTIMEZONE
TZID:Europe/Prague
X-LIC-LOCATION:Europe/Prague
BEGIN:STANDARD
DTSTART:20181028T020000
TZOFFSETFROM:+0200
TZOFFSETTO:+0100
TZNAME:CET
END:STANDARD
END:VTIMEZONE
END:VCALENDAR