BEGIN:VCALENDAR
VERSION:2.0
PRODID:-//wp-events-plugin.com//7.2.3.1//EN
TZID:Europe/Prague
X-WR-TIMEZONE:Europe/Prague
BEGIN:VEVENT
UID:678@ponava.cafe
DTSTART;TZID=Europe/Prague:20230622T180000
DTEND;TZID=Europe/Prague:20230622T193000
DTSTAMP:20230605T134022Z
URL:https://ponava.cafe/udalosti/qapella-flyers-ze-zus-jaroslava-kvapila-b
 rno/
SUMMARY:Qapella & Flyers ze ZUŠ Jaroslava Kvapila Brno
DESCRIPTION:Přijďte podpořit mladou talentovanou krev ze ZUŠ Jaroslava 
 Kvapila v Brně.\nNa programu zazní 12 skladeb od různých autorů\, int
 erpretů i žánrů ( B. Adams\, Kamelot\, Passenger\, Guns N’ Roses\, M
 etallica\, apod.)\nVstupné dobrovolné - zážitky k nezaplacení
ATTACH;FMTTYPE=image/jpeg:https://ponava.cafe/wp-content/uploads/2023/06/i
 mage0.jpeg
CATEGORIES:Koncert
END:VEVENT
BEGIN:VTIMEZONE
TZID:Europe/Prague
X-LIC-LOCATION:Europe/Prague
BEGIN:DAYLIGHT
DTSTART:20230326T030000
TZOFFSETFROM:+0100
TZOFFSETTO:+0200
TZNAME:CEST
END:DAYLIGHT
END:VTIMEZONE
END:VCALENDAR