BEGIN:VCALENDAR
VERSION:2.0
PRODID:-//wp-events-plugin.com//7.2.3.1//EN
TZID:Europe/Prague
X-WR-TIMEZONE:Europe/Prague
BEGIN:VEVENT
UID:123@ponava.cafe
DTSTART;TZID=Europe/Prague;VALUE=DATE:20180518
DTEND;TZID=Europe/Prague;VALUE=DATE:20180521
DTSTAMP:20180430T141228Z
URL:https://ponava.cafe/udalosti/ponavafest/
SUMMARY:PonavaFest
DESCRIPTION:Více na www.ponavafest.cz
ATTACH;FMTTYPE=image/jpeg:https://ponava.cafe/wp-content/uploads/2017/06/t
 apeta.jpg
CATEGORIES:Festival
END:VEVENT
BEGIN:VTIMEZONE
TZID:Europe/Prague
X-LIC-LOCATION:Europe/Prague
BEGIN:DAYLIGHT
DTSTART:20180325T030000
TZOFFSETFROM:+0100
TZOFFSETTO:+0200
TZNAME:CEST
END:DAYLIGHT
END:VTIMEZONE
END:VCALENDAR