BEGIN:VCALENDAR
VERSION:2.0
PRODID:-//wp-events-plugin.com//7.2.3.1//EN
TZID:Europe/Prague
X-WR-TIMEZONE:Europe/Prague
BEGIN:VEVENT
UID:438@ponava.cafe
DTSTART;TZID=Europe/Prague;VALUE=DATE:20210723
DTEND;TZID=Europe/Prague;VALUE=DATE:20210726
DTSTAMP:20210620T210337Z
URL:https://ponava.cafe/udalosti/ponavafest-2021/
SUMMARY:PONAVAFEST 2021
DESCRIPTION:PonavaFest je multižánrový open air festival\, který se ode
 hraje již pošesté tradičně v Lužánkách.\nFestival se koná\, stejn
 ě jako v loňských letech\, bez plotů a bez vstupného a ve spolupráci
  s projektem FAUN se letos zaměříme mj. na norskou muziku.\nVšem fanou
 škům moc děkujeme za podporu a těšíme se jako nikdy!\nProgram festiv
 alu budeme postupně odhalovat na FB a webu: www.ponavafest.cz
ATTACH;FMTTYPE=image/jpeg:https://ponava.cafe/wp-content/uploads/2021/06/d
 sc2036.jpg
CATEGORIES:Festival
END:VEVENT
BEGIN:VTIMEZONE
TZID:Europe/Prague
X-LIC-LOCATION:Europe/Prague
BEGIN:DAYLIGHT
DTSTART:20210328T030000
TZOFFSETFROM:+0100
TZOFFSETTO:+0200
TZNAME:CEST
END:DAYLIGHT
END:VTIMEZONE
END:VCALENDAR