BEGIN:VCALENDAR
VERSION:2.0
PRODID:-//wp-events-plugin.com//7.2.3.1//EN
TZID:Europe/Prague
X-WR-TIMEZONE:Europe/Prague
BEGIN:VEVENT
UID:246@ponava.cafe
DTSTART;TZID=Europe/Prague:20190524T000000
DTEND;TZID=Europe/Prague:20190526T000000
DTSTAMP:20190508T162641Z
URL:https://ponava.cafe/udalosti/ponava-fest/
SUMMARY:Ponava Fest
DESCRIPTION:Bližšie informácie o programe nájdete na webstránke www.po
 navafest.cz\n\nhttps://www.ponavafest.cz/
ATTACH;FMTTYPE=image/jpeg:https://ponava.cafe/wp-content/uploads/2017/06/t
 apeta.jpg
CATEGORIES:Festival
END:VEVENT
BEGIN:VTIMEZONE
TZID:Europe/Prague
X-LIC-LOCATION:Europe/Prague
BEGIN:DAYLIGHT
DTSTART:20190331T030000
TZOFFSETFROM:+0100
TZOFFSETTO:+0200
TZNAME:CEST
END:DAYLIGHT
END:VTIMEZONE
END:VCALENDAR